BEGIN:VCALENDAR
VERSION:2.0
PRODID:-//Windmill Point Park - ECPv6.11.2//NONSGML v1.0//EN
CALSCALE:GREGORIAN
METHOD:PUBLISH
X-WR-CALNAME:Windmill Point Park
X-ORIGINAL-URL:https://windmillpointpark.com
X-WR-CALDESC:Events for Windmill Point Park
REFRESH-INTERVAL;VALUE=DURATION:PT1H
X-Robots-Tag:noindex
X-PUBLISHED-TTL:PT1H
BEGIN:VTIMEZONE
TZID:America/Toronto
BEGIN:DAYLIGHT
TZOFFSETFROM:-0500
TZOFFSETTO:-0400
TZNAME:EDT
DTSTART:20250309T070000
END:DAYLIGHT
BEGIN:STANDARD
TZOFFSETFROM:-0400
TZOFFSETTO:-0500
TZNAME:EST
DTSTART:20251102T060000
END:STANDARD
END:VTIMEZONE
BEGIN:VEVENT
DTSTART;VALUE=DATE:20250627
DTEND;VALUE=DATE:20250702
DTSTAMP:20260420T132426
CREATED:20250627T153157Z
LAST-MODIFIED:20250627T153157Z
UID:5899-1750982400-1751414399@windmillpointpark.com
SUMMARY:CANADA DAY WEEKEND!
DESCRIPTION:
URL:https://windmillpointpark.com/event/canada-day-weekend/
ATTACH;FMTTYPE=image/png:https://windmillpointpark.com/wp-content/uploads/2025/06/1.png
END:VEVENT
BEGIN:VEVENT
DTSTART;TZID=America/Toronto:20250704T190000
DTEND;TZID=America/Toronto:20250704T200000
DTSTAMP:20260420T132426
CREATED:20250704T165513Z
LAST-MODIFIED:20250704T165541Z
UID:5929-1751655600-1751659200@windmillpointpark.com
SUMMARY:Wagon Ride!
DESCRIPTION:MEET US AT THE BIG CHAIR TO HOP ON THE WINDMILL EXPRESS WAGON RIDE!\n \n  \nALL EVENTS ARE SUBJECT TO CHANGE OR CANCELLATION WITHOUT NOTICE. \nChildren 6 and under must be supervised at all times.
URL:https://windmillpointpark.com/event/wagon-ride-7/
LOCATION:Big Chair
ATTACH;FMTTYPE=image/png:https://windmillpointpark.com/wp-content/uploads/2023/06/Wagon-Ride-Image-2023.png
END:VEVENT
BEGIN:VEVENT
DTSTART;TZID=America/Toronto:20250705T070000
DTEND;TZID=America/Toronto:20250705T150000
DTSTAMP:20260420T132426
CREATED:20240718T165535Z
LAST-MODIFIED:20250704T164301Z
UID:4442-1751698800-1751727600@windmillpointpark.com
SUMMARY:Purple Perk Food Truck!
DESCRIPTION:Keeping Niagara caffeinated one cup at at time ☕\n\nOrganic & Hand Crafted Brews\n\n\n\n\n\n\nHOUSE BLEND COFFEE – smooth\, hot\, & delicious ☕\n\n\n\n\n\n\n\n\nHOT TEA – variety of flavours\n\n\n\n\n\n\n\n\nESPRESSO- traditional concentrated coffee shot\n\n\n\n\n\n\n\n\nLATTE – espresso\, lots of steamed milk\, and touch of froth – perfecto!\n\n\n\n\n\n\n\n\nMOCHA – hot cocoa and espresso – yes please!\n\n\n\n\n\n\n\n\nLONDON FOG – earl grey\, milk\, and vanilla makes this a warming cup\n\n\n\n\n\n\n\n\nHOT COCOA – our secret ingredient makes this the best hot chocolate around\n\n\n\n\n\n\n\n\nCARAMEL MACCHIATO – caramel injected latte – pure awesomeness\n\n\n\n\n\n\n\n\nINFUSION CHILLER – wonderfully light with splash of Loganberry and seasonal fruit (if avail)\n\n\n\n\n\n\n\n\nCOLD BREW – our coffee chills for at least 18 hours with special additions for perfect flavour\n\n\n\n\n\n\n\n\nBAKED GOODS – homemade chocolate chip cookies\, butter tarts\, “moisturized” brownies\n\n\n\n\n\n\n\n\nMONTHLY FEATURES – a fresh selection of drinks changed….you guessed it – monthly!
URL:https://windmillpointpark.com/event/purple-perk-food-truck-2/
LOCATION:Food Truck Area\, 2409 Dominion Rd.\, Ridgeway\, ON\, L0S 1N0\, Canada
ATTACH;FMTTYPE=image/jpeg:https://windmillpointpark.com/wp-content/uploads/2024/07/Purple-Perk.jpg
END:VEVENT
BEGIN:VEVENT
DTSTART;TZID=America/Toronto:20250705T100000
DTEND;TZID=America/Toronto:20250705T110000
DTSTAMP:20260420T132426
CREATED:20250704T184940Z
LAST-MODIFIED:20250704T184940Z
UID:5941-1751709600-1751713200@windmillpointpark.com
SUMMARY:Windmill's Scavenger Hunt!
DESCRIPTION:Join us at the Event Tent at 10am to start the hunt!\nYou’ll need a cell phone with data for this event.\n \n  \nALL EVENTS ARE SUBJECT TO CHANGE OR CANCELLATION WITHOUT NOTICE. \nChildren 6 and under must be supervised at all times.
URL:https://windmillpointpark.com/event/windmills-scavenger-hunt/
LOCATION:Event Tent
ATTACH;FMTTYPE=image/jpeg:https://windmillpointpark.com/wp-content/uploads/2025/07/Light-brown-scavenger-hunt-design-1.jpg
END:VEVENT
BEGIN:VEVENT
DTSTART;TZID=America/Toronto:20250705T110000
DTEND;TZID=America/Toronto:20250705T180000
DTSTAMP:20260420T132426
CREATED:20250627T150140Z
LAST-MODIFIED:20250704T163339Z
UID:5874-1751713200-1751738400@windmillpointpark.com
SUMMARY:The Lock Wood Fired Pizza Truck
DESCRIPTION:Family owned and operated since 2017. With over 20 years experienced combined we deliver high quality pizza with local & traditional ingredients.\n 
URL:https://windmillpointpark.com/event/the-lock-woodpizza-truck/
LOCATION:Food Truck Area\, 2409 Dominion Rd.\, Ridgeway\, ON\, L0S 1N0\, Canada
ATTACH;FMTTYPE=image/png:https://windmillpointpark.com/wp-content/uploads/2025/06/ALL-POSTERS.zip-3.png
END:VEVENT
BEGIN:VEVENT
DTSTART;TZID=America/Toronto:20250705T110000
DTEND;TZID=America/Toronto:20250705T180000
DTSTAMP:20260420T132426
CREATED:20250627T151656Z
LAST-MODIFIED:20250704T163312Z
UID:5888-1751713200-1751738400@windmillpointpark.com
SUMMARY:Red Chip Wagon
DESCRIPTION:THE RED CHIP WAGON\nFRESH CUT FRIES – MADE WITH PEELED POTATOES\nRegular Fries $7\nLarge Fries $10\nRegular Poutine $10\nLarge Poutine $14\nChicken Fingers and Fries $15\nJumbo Hot Dog $7
URL:https://windmillpointpark.com/event/red-chip-wagon/
LOCATION:Food Truck Area\, 2409 Dominion Rd.\, Ridgeway\, ON\, L0S 1N0\, Canada
ATTACH;FMTTYPE=image/png:https://windmillpointpark.com/wp-content/uploads/2025/06/LOGO-TRCW-RED.png
END:VEVENT
BEGIN:VEVENT
DTSTART;TZID=America/Toronto:20250705T210000
DTEND;TZID=America/Toronto:20250705T230000
DTSTAMP:20260420T132426
CREATED:20250704T170446Z
LAST-MODIFIED:20250704T170516Z
UID:5931-1751749200-1751756400@windmillpointpark.com
SUMMARY:Movies Under the Stars!
DESCRIPTION:SEE THE STARS UNDER THE STARS!\nJoin us to watch HIT PIG!\n \nA clever bounty-hunting pig (Jason Sudeikis) must return a dancing elephant (Lily Singh) to a Las Vegas circus to collect $1 million. However\, when the mission goes sideways\, he soon realizes that no amount of money is worth losing his newfound friends.   \nRATED: PG \nSEE THE OFFICIAL MOVIE TRAILER HERE \n  \nMOVIES AND ALL EVENTS ARE SUBJECT TO CHANGE OR CANCELLATION WITHOUT NOTICE. \nChildren 6 and under must be supervised at all times.
URL:https://windmillpointpark.com/event/movies-under-the-stars-52/
LOCATION:Outdoor Movie Screen
END:VEVENT
BEGIN:VEVENT
DTSTART;TZID=America/Toronto:20250706T100000
DTEND;TZID=America/Toronto:20250706T110000
DTSTAMP:20260420T132426
CREATED:20250704T171514Z
LAST-MODIFIED:20250704T185000Z
UID:5936-1751796000-1751799600@windmillpointpark.com
SUMMARY:Kid's Crafts!
DESCRIPTION:Join us at 10am under the Event Tent for our Kids’ Craft!\n  \n \nFREE!  All art supplies provided\, while they last \nALL EVENTS ARE SUBJECT TO CHANGE OR CANCELLATION WITHOUT NOTICE. \nChildren 6 and under must be supervised at all times.
URL:https://windmillpointpark.com/event/kids-crafts/
LOCATION:Event Tent
ATTACH;FMTTYPE=image/jpeg:https://windmillpointpark.com/wp-content/uploads/2025/07/Elephant-Piggie-Corner-Bookmarks.jpg
END:VEVENT
BEGIN:VEVENT
DTSTART;VALUE=DATE:20250718
DTEND;VALUE=DATE:20250721
DTSTAMP:20260420T132426
CREATED:20230812T160114Z
LAST-MODIFIED:20250717T134255Z
UID:3028-1752796800-1753055999@windmillpointpark.com
SUMMARY:Christmas in July!
DESCRIPTION:HO! HO! HO!\nWe’re celebrating Christmas in July!
URL:https://windmillpointpark.com/event/christmas-in-july-6/
ATTACH;FMTTYPE=image/png:https://windmillpointpark.com/wp-content/uploads/2023/08/Christmas-in-July-2025.png
END:VEVENT
END:VCALENDAR