BEGIN:VCALENDAR
VERSION:2.0
PRODID:-//Windmill Point Park - ECPv6.11.2//NONSGML v1.0//EN
CALSCALE:GREGORIAN
METHOD:PUBLISH
X-ORIGINAL-URL:https://windmillpointpark.com
X-WR-CALDESC:Events for Windmill Point Park
REFRESH-INTERVAL;VALUE=DURATION:PT1H
X-Robots-Tag:noindex
X-PUBLISHED-TTL:PT1H
BEGIN:VTIMEZONE
TZID:America/Toronto
BEGIN:DAYLIGHT
TZOFFSETFROM:-0500
TZOFFSETTO:-0400
TZNAME:EDT
DTSTART:20240310T070000
END:DAYLIGHT
BEGIN:STANDARD
TZOFFSETFROM:-0400
TZOFFSETTO:-0500
TZNAME:EST
DTSTART:20241103T060000
END:STANDARD
END:VTIMEZONE
BEGIN:VEVENT
DTSTART;TZID=America/Toronto:20241011T190000
DTEND;TZID=America/Toronto:20241011T230000
DTSTAMP:20260421T032155
CREATED:20240916T153909Z
LAST-MODIFIED:20240916T154116Z
UID:4761-1728673200-1728687600@windmillpointpark.com
SUMMARY:YEAR-END JAM SESSION
DESCRIPTION:We have a lot of talented musicians in our campground!\nJOIN US AT THE EVENT TENT AT 7:00PM ON FRIDAY\, OCTOBER 11\, 2024 FOR OUR YEAR END JAM SESSION! \nDon’t miss out on all of the fun!  Bring your instruments\, vocals or just watch and dance to enjoy the show! \n \n 
URL:https://windmillpointpark.com/event/year-end-jam-session/
LOCATION:Event Tent
ATTACH;FMTTYPE=image/png:https://windmillpointpark.com/wp-content/uploads/2024/09/YEAR-END-JAM-SESSION.png
END:VEVENT
END:VCALENDAR