BEGIN:VCALENDAR
VERSION:2.0
PRODID:-//Windmill Point Park - ECPv6.11.2//NONSGML v1.0//EN
CALSCALE:GREGORIAN
METHOD:PUBLISH
X-WR-CALNAME:Windmill Point Park
X-ORIGINAL-URL:https://windmillpointpark.com
X-WR-CALDESC:Events for Windmill Point Park
REFRESH-INTERVAL;VALUE=DURATION:PT1H
X-Robots-Tag:noindex
X-PUBLISHED-TTL:PT1H
BEGIN:VTIMEZONE
TZID:America/Toronto
BEGIN:DAYLIGHT
TZOFFSETFROM:-0500
TZOFFSETTO:-0400
TZNAME:EDT
DTSTART:20210314T070000
END:DAYLIGHT
BEGIN:STANDARD
TZOFFSETFROM:-0400
TZOFFSETTO:-0500
TZNAME:EST
DTSTART:20211107T060000
END:STANDARD
END:VTIMEZONE
BEGIN:VEVENT
DTSTART;TZID=America/Toronto:20210901T203000
DTEND;TZID=America/Toronto:20210901T230000
DTSTAMP:20260425T213813
CREATED:20210804T160204Z
LAST-MODIFIED:20210901T182423Z
UID:1872-1630528200-1630537200@windmillpointpark.com
SUMMARY:Movies Under the Stars
DESCRIPTION:Join us at the outdoor movie screen for The Spongebob Movie: Sponge on the Run \nWhen SpongeBob SquarePants’ beloved pet snail Gary goes missing\, a path of clues leads SpongeBob and his best friend Patrick to the powerful King Poseidon\, who has Gary held captive in the Lost City of Atlantic City. On their mission to save Gary\, SpongeBob and the Bikini Bottom gang team up for a heroic and hilarious journey\, where they discover nothing is stronger than the power of friendship. \nRATED PG
URL:https://windmillpointpark.com/event/movies-under-the-stars-22/
LOCATION:Outdoor Movie Screen
ATTACH;FMTTYPE=image/jpeg:https://windmillpointpark.com/wp-content/uploads/2019/02/movies-under-the-stars.jpg
ORGANIZER;CN="Windmill Point Park":MAILTO:michael@futureaccess.ca
END:VEVENT
BEGIN:VEVENT
DTSTART;TZID=America/Toronto:20210903T203000
DTEND;TZID=America/Toronto:20210903T220000
DTSTAMP:20260425T213813
CREATED:20210824T185640Z
LAST-MODIFIED:20210824T185640Z
UID:1953-1630701000-1630706400@windmillpointpark.com
SUMMARY:Glow in the Dark Wagon Ride!
DESCRIPTION:Hop on our wagon for a tour of the campground with glowsticks and music!\nA glowstick necklace will be provided to everyone on board.  You’re also more than welcome to bring your own!\nLet’s light up the night!\nFirst come\, first served.  Mask must be worn while on the wagon and hand sanitizer will be available.  Small children must be accompanied by an adult.
URL:https://windmillpointpark.com/event/glow-in-the-dark-wagon-ride-6/
ATTACH;FMTTYPE=image/jpeg:https://windmillpointpark.com/wp-content/uploads/2019/06/Wagon-Ride.jpg
END:VEVENT
BEGIN:VEVENT
DTSTART;TZID=America/Toronto:20210904T120000
DTEND;TZID=America/Toronto:20210904T160000
DTSTAMP:20260425T213813
CREATED:20210820T144311Z
LAST-MODIFIED:20210824T183458Z
UID:1928-1630756800-1630771200@windmillpointpark.com
SUMMARY:CORNHOLE TOURNAMENT!
DESCRIPTION:It’s the biggest thing since sliced bread! CORNHOLE! \nJoin us for some friendly competitive fun with All Canadian Cornhole! \nLoads of prizes to be won and tons of fun to be had! \nRegister at 905-894-2809 or email info@windmillpointpark.com \n \n 
URL:https://windmillpointpark.com/event/cornhole-tournament/
ATTACH;FMTTYPE=image/jpeg:https://windmillpointpark.com/wp-content/uploads/2021/08/Cornhole-3-e1629470562625.jpg
END:VEVENT
BEGIN:VEVENT
DTSTART;TZID=America/Toronto:20210904T203000
DTEND;TZID=America/Toronto:20210904T230000
DTSTAMP:20260425T213813
CREATED:20210825T183359Z
LAST-MODIFIED:20210825T183359Z
UID:1966-1630787400-1630796400@windmillpointpark.com
SUMMARY:Movies Under the Stars!
DESCRIPTION:Join us at the outdoor movie screen for Space Jam: A New Legacy! \nSuperstar LeBron James and his young son\, Dom\, get trapped in digital space by a rogue AI. To get home safely\, LeBron teams up with Bugs Bunny\, Daffy Duck and the rest of the Looney Tunes gang for a high-stakes basketball game against the AI’s digitized champions of the court — a powered-up roster called the Goon Squad. \nRATED PG
URL:https://windmillpointpark.com/event/movies-under-the-stars-27/
LOCATION:Outdoor Movie Screen
ATTACH;FMTTYPE=image/jpeg:https://windmillpointpark.com/wp-content/uploads/2019/02/movies-under-the-stars.jpg
END:VEVENT
BEGIN:VEVENT
DTSTART;TZID=America/Toronto:20210910T200000
DTEND;TZID=America/Toronto:20210910T210000
DTSTAMP:20260425T213813
CREATED:20210910T151709Z
LAST-MODIFIED:20210910T151709Z
UID:2018-1631304000-1631307600@windmillpointpark.com
SUMMARY:Glow in the Dark Wagon Ride!
DESCRIPTION:Hop on our wagon for a tour of the campground with glowsticks and music!\nA glowstick necklace will be provided to everyone on board.  You’re also more than welcome to bring your own!\nLet’s light up the night!\nFirst come\, first served.  Mask must be worn while on the wagon and hand sanitizer will be available.  Small children must be accompanied by an adult.
URL:https://windmillpointpark.com/event/glow-in-the-dark-wagon-ride-7/
ATTACH;FMTTYPE=image/jpeg:https://windmillpointpark.com/wp-content/uploads/2019/06/Wagon-Ride.jpg
END:VEVENT
BEGIN:VEVENT
DTSTART;TZID=America/Toronto:20210911T200000
DTEND;TZID=America/Toronto:20210911T220000
DTSTAMP:20260425T213813
CREATED:20210910T152311Z
LAST-MODIFIED:20210910T152436Z
UID:2020-1631390400-1631397600@windmillpointpark.com
SUMMARY:Movies Under the Stars
DESCRIPTION:Join us at the outdoor movie screen\, behind the event tent\, for Disney’s Dumbo! \nHolt\, a circus performer\, is tasked with caring for a baby elephant with oversized ears\, Dumbo. But when it is discovered that Dumbo can fly\, a few wicked men try to take advantage of the situation. \nRATED  PG
URL:https://windmillpointpark.com/event/movies-under-the-stars-28/
ATTACH;FMTTYPE=image/jpeg:https://windmillpointpark.com/wp-content/uploads/2019/02/movies-under-the-stars.jpg
END:VEVENT
BEGIN:VEVENT
DTSTART;TZID=America/Toronto:20210918T120000
DTEND;TZID=America/Toronto:20210918T160000
DTSTAMP:20260425T213813
CREATED:20210907T153132Z
LAST-MODIFIED:20210907T153350Z
UID:1995-1631966400-1631980800@windmillpointpark.com
SUMMARY:SEASONAL CAMPER APPRECIATION!
DESCRIPTION:A GREAT BIG THANK YOU FOR OUR SEASONAL CAMPERS FOR ALL OF THEIR SUPPORT AND ENCOURAGING WORDS DURING ANOTHER COVID SEASON. \nWe sincerely appreciate you choosing Windmill Point Park & Campground for your summer vacation destination!
URL:https://windmillpointpark.com/event/seasonal-camper-appreciation/
LOCATION:Event Tent
ATTACH;FMTTYPE=image/png:https://windmillpointpark.com/wp-content/uploads/2021/09/Thank-You.png
END:VEVENT
BEGIN:VEVENT
DTSTART;TZID=America/Toronto:20210918T200000
DTEND;TZID=America/Toronto:20210918T220000
DTSTAMP:20260425T213813
CREATED:20210916T193957Z
LAST-MODIFIED:20210918T232116Z
UID:2023-1631995200-1632002400@windmillpointpark.com
SUMMARY:Movies Under Stars
DESCRIPTION:It’s the final movie we’ll be showing this season!  Make sure you don’t miss out!  🙂 \nJoin us behind the event tent for Marvel’s Black Panther! \nAfter his father’s death\, T’Challa returns home to Wakanda to inherit his throne. However\, a powerful enemy related to his family threatens to attack his nation. \nRATED PG-13 \n \n  \n 
URL:https://windmillpointpark.com/event/movies-under-stars/
LOCATION:Outdoor Movie Screen
ATTACH;FMTTYPE=image/jpeg:https://windmillpointpark.com/wp-content/uploads/2019/02/movies-under-the-stars.jpg
END:VEVENT
BEGIN:VEVENT
DTSTART;VALUE=DATE:20210920
DTEND;VALUE=DATE:20211031
DTSTAMP:20260425T213813
CREATED:20210919T192535Z
LAST-MODIFIED:20210919T192624Z
UID:2037-1632096000-1635638399@windmillpointpark.com
SUMMARY:SWEET SALE!
DESCRIPTION:YOU DESERVE A SWEET TREAT! \nThe sweets and treats are on sale at Guest Services!
URL:https://windmillpointpark.com/event/sweet-sale/
ATTACH;FMTTYPE=image/jpeg:https://windmillpointpark.com/wp-content/uploads/2021/09/Sweet-Sale-2021-Made-with-PosterMyWall-1.jpg
END:VEVENT
BEGIN:VEVENT
DTSTART;TZID=America/Toronto:20210925T090000
DTEND;TZID=America/Toronto:20210925T120000
DTSTAMP:20260425T213813
CREATED:20210907T153916Z
LAST-MODIFIED:20210907T154129Z
UID:1998-1632560400-1632571200@windmillpointpark.com
SUMMARY:COMMUNITY YARD SALE!
DESCRIPTION:
URL:https://windmillpointpark.com/event/community-yard-sale-2/
ATTACH;FMTTYPE=image/jpeg:https://windmillpointpark.com/wp-content/uploads/2021/09/Copy-of-Garage-Sale-Flyer-Made-with-PosterMyWall.jpg
END:VEVENT
END:VCALENDAR