BEGIN:VCALENDAR
VERSION:2.0
PRODID:-//Windmill Point Park - ECPv6.11.2//NONSGML v1.0//EN
CALSCALE:GREGORIAN
METHOD:PUBLISH
X-WR-CALNAME:Windmill Point Park
X-ORIGINAL-URL:https://windmillpointpark.com
X-WR-CALDESC:Events for Windmill Point Park
REFRESH-INTERVAL;VALUE=DURATION:PT1H
X-Robots-Tag:noindex
X-PUBLISHED-TTL:PT1H
BEGIN:VTIMEZONE
TZID:America/Toronto
BEGIN:DAYLIGHT
TZOFFSETFROM:-0500
TZOFFSETTO:-0400
TZNAME:EDT
DTSTART:20260308T070000
END:DAYLIGHT
BEGIN:STANDARD
TZOFFSETFROM:-0400
TZOFFSETTO:-0500
TZNAME:EST
DTSTART:20261101T060000
END:STANDARD
END:VTIMEZONE
BEGIN:VEVENT
DTSTART;TZID=America/Toronto:20260620T100000
DTEND;TZID=America/Toronto:20260620T120000
DTSTAMP:20260420T175441
CREATED:20260417T010801Z
LAST-MODIFIED:20260417T011057Z
UID:6368-1781949600-1781956800@windmillpointpark.com
SUMMARY:LONGEST DRIVE COMPETITION!
DESCRIPTION:Have you ever wanted to see how far across the quarry you can hit a golf ball?  This may be your chance!\nJoin us for our Longest Drive Competition!\nDon’t forget to bring your own clubs!  We provide the floating golf balls. \n  \nCHECK BACK SOON FOR MORE DETAILS!
URL:https://windmillpointpark.com/event/longest-drive-competition-2/
LOCATION:Quarry
END:VEVENT
END:VCALENDAR