BEGIN:VCALENDAR
VERSION:2.0
PRODID:-//Windmill Point Park - ECPv6.11.2//NONSGML v1.0//EN
CALSCALE:GREGORIAN
METHOD:PUBLISH
X-ORIGINAL-URL:https://windmillpointpark.com
X-WR-CALDESC:Events for Windmill Point Park
REFRESH-INTERVAL;VALUE=DURATION:PT1H
X-Robots-Tag:noindex
X-PUBLISHED-TTL:PT1H
BEGIN:VTIMEZONE
TZID:America/Toronto
BEGIN:DAYLIGHT
TZOFFSETFROM:-0500
TZOFFSETTO:-0400
TZNAME:EDT
DTSTART:20250309T070000
END:DAYLIGHT
BEGIN:STANDARD
TZOFFSETFROM:-0400
TZOFFSETTO:-0500
TZNAME:EST
DTSTART:20251102T060000
END:STANDARD
END:VTIMEZONE
BEGIN:VEVENT
DTSTART;VALUE=DATE:20250627
DTEND;VALUE=DATE:20250702
DTSTAMP:20260420T162138
CREATED:20250627T153157Z
LAST-MODIFIED:20250627T153157Z
UID:5899-1750982400-1751414399@windmillpointpark.com
SUMMARY:CANADA DAY WEEKEND!
DESCRIPTION:
URL:https://windmillpointpark.com/event/canada-day-weekend/
ATTACH;FMTTYPE=image/png:https://windmillpointpark.com/wp-content/uploads/2025/06/1.png
END:VEVENT
BEGIN:VEVENT
DTSTART;TZID=America/Toronto:20250627T080000
DTEND;TZID=America/Toronto:20250627T170000
DTSTAMP:20260420T162138
CREATED:20250627T210924Z
LAST-MODIFIED:20250627T210924Z
UID:5903-1751011200-1751043600@windmillpointpark.com
SUMMARY:THE GREAT CANADIAN WAGON RIDE!
DESCRIPTION:Meet us at the Big Chair to hop on board a\nwagon ride around the campground!\nStarts at 6:00pm.  See  you there!\n \n  \n 
URL:https://windmillpointpark.com/event/the-great-canadian-wagon-ride/
ATTACH;FMTTYPE=image/png:https://windmillpointpark.com/wp-content/uploads/2023/06/Wagon-Ride-Image-2023.png
END:VEVENT
BEGIN:VEVENT
DTSTART;TZID=America/Toronto:20250627T180000
DTEND;TZID=America/Toronto:20250627T200000
DTSTAMP:20260420T162138
CREATED:20230629T220147Z
LAST-MODIFIED:20250627T211058Z
UID:2806-1751047200-1751054400@windmillpointpark.com
SUMMARY:WAGON RIDE!
DESCRIPTION:MEET US AT THE THE BIG CHAIR TO HOP ON THE WINDMILL EXPRESS WAGON RIDE! \nIt’s Canada Day!  Tour around the campground while we listen (and maybe sing to) some Canadian music \nand learn some useless information about our favourite country and yours… Canada! \n  \nLL EVENTS ARE SUBJECT TO CHANGE OR CANCELLATION WITHOUT NOTICE. \nChildren 6 and under must be supervised at all times.
URL:https://windmillpointpark.com/event/wagon-ride-4/
LOCATION:Big Chair
ATTACH;FMTTYPE=image/png:https://windmillpointpark.com/wp-content/uploads/2023/06/Wagon-Ride-Image-2023.png
END:VEVENT
BEGIN:VEVENT
DTSTART;TZID=America/Toronto:20250627T210000
DTEND;TZID=America/Toronto:20250627T230000
DTSTAMP:20260420T162138
CREATED:20250627T152422Z
LAST-MODIFIED:20250627T154837Z
UID:5893-1751058000-1751065200@windmillpointpark.com
SUMMARY:MOVIES UNDER THE STARS!
DESCRIPTION:SEE THE STARS UNDER THE STARS!\nDESPICABLE ME 4!\n \n  \nGru welcomes a new member to the family\, Gru Jr.\, who’s intent on tormenting his dad. However\, their peaceful existence soon comes crashing down when criminal mastermind Maxime Le Mal escapes from prison and vows revenge against Gru. \nRATED PG \nWatch the trailer HERE \nMOVIES AND ALL EVENTS ARE SUBJECT TO CHANGE OR CANCELLATION WITHOUT NOTICE. \nChildren 6 and under must be supervised at all times.
URL:https://windmillpointpark.com/event/movies-under-the-stars-51/
LOCATION:Outdoor Movie Screen
ATTACH;FMTTYPE=image/jpeg:https://windmillpointpark.com/wp-content/uploads/2025/06/DESPICABLE-ME-4-scaled.jpg
END:VEVENT
END:VCALENDAR