BEGIN:VCALENDAR
VERSION:2.0
PRODID:-//Windmill Point Park - ECPv6.11.2//NONSGML v1.0//EN
CALSCALE:GREGORIAN
METHOD:PUBLISH
X-WR-CALNAME:Windmill Point Park
X-ORIGINAL-URL:https://windmillpointpark.com
X-WR-CALDESC:Events for Windmill Point Park
REFRESH-INTERVAL;VALUE=DURATION:PT1H
X-Robots-Tag:noindex
X-PUBLISHED-TTL:PT1H
BEGIN:VTIMEZONE
TZID:America/Toronto
BEGIN:DAYLIGHT
TZOFFSETFROM:-0500
TZOFFSETTO:-0400
TZNAME:EDT
DTSTART:20250309T070000
END:DAYLIGHT
BEGIN:STANDARD
TZOFFSETFROM:-0400
TZOFFSETTO:-0500
TZNAME:EST
DTSTART:20251102T060000
END:STANDARD
END:VTIMEZONE
BEGIN:VEVENT
DTSTART;TZID=America/Toronto:20250614T103000
DTEND;TZID=America/Toronto:20250614T120000
DTSTAMP:20260420T162028
CREATED:20250528T192404Z
LAST-MODIFIED:20250610T182818Z
UID:5593-1749897000-1749902400@windmillpointpark.com
SUMMARY:Longest Drive Competition!
DESCRIPTION:Have you ever wanted to see how far across the quarry you can hit a golf ball?  This may be your chance!\nJoin us for our Inaugural Longest Drive Competition!\nCLICK HERE TO REGISTER! \n  \nDon’t forget to bring your own clubs!  We provide the floating golf balls.
URL:https://windmillpointpark.com/event/longest-drive-competition/
LOCATION:Quarry
ATTACH;FMTTYPE=image/png:https://windmillpointpark.com/wp-content/uploads/2025/05/Fathers-Day-Longest-Drive-Competition-2025.png
END:VEVENT
END:VCALENDAR