BEGIN:VCALENDAR
VERSION:2.0
PRODID:-//Windmill Point Park - ECPv6.11.2//NONSGML v1.0//EN
CALSCALE:GREGORIAN
METHOD:PUBLISH
X-WR-CALNAME:Windmill Point Park
X-ORIGINAL-URL:https://windmillpointpark.com
X-WR-CALDESC:Events for Windmill Point Park
REFRESH-INTERVAL;VALUE=DURATION:PT1H
X-Robots-Tag:noindex
X-PUBLISHED-TTL:PT1H
BEGIN:VTIMEZONE
TZID:America/Toronto
BEGIN:DAYLIGHT
TZOFFSETFROM:-0500
TZOFFSETTO:-0400
TZNAME:EDT
DTSTART:20240310T070000
END:DAYLIGHT
BEGIN:STANDARD
TZOFFSETFROM:-0400
TZOFFSETTO:-0500
TZNAME:EST
DTSTART:20241103T060000
END:STANDARD
END:VTIMEZONE
BEGIN:VEVENT
DTSTART;VALUE=DATE:20240831
DTEND;VALUE=DATE:20240902
DTSTAMP:20260421T061907
CREATED:20240712T014445Z
LAST-MODIFIED:20240712T014445Z
UID:4422-1725062400-1725235199@windmillpointpark.com
SUMMARY:MARBLE SLAB CREAMERY
DESCRIPTION:Marble Slab Creamery is back \nserving up happiness for all!\nFind them behind the beach kiosk Saturday and Sunday. \n 
URL:https://windmillpointpark.com/event/marble-slab-creamery-12/
LOCATION:Beach
ATTACH;FMTTYPE=image/png:https://windmillpointpark.com/wp-content/uploads/2024/07/Marble-Slab-2024.png
END:VEVENT
BEGIN:VEVENT
DTSTART;TZID=America/Toronto:20240901T070000
DTEND;TZID=America/Toronto:20240901T150000
DTSTAMP:20260421T061907
CREATED:20240729T195322Z
LAST-MODIFIED:20240828T144054Z
UID:4536-1725174000-1725202800@windmillpointpark.com
SUMMARY:Purple Perk Food Truck!
DESCRIPTION:Keeping Niagara caffeinated one cup at at time ☕\n \n 
URL:https://windmillpointpark.com/event/purple-perk-food-truck-3/
LOCATION:Beach
ATTACH;FMTTYPE=image/jpeg:https://windmillpointpark.com/wp-content/uploads/2024/07/Purple-Perk.jpg
END:VEVENT
BEGIN:VEVENT
DTSTART;TZID=America/Toronto:20240901T100000
DTEND;TZID=America/Toronto:20240901T120000
DTSTAMP:20260421T061907
CREATED:20240214T222557Z
LAST-MODIFIED:20240828T140226Z
UID:3198-1725184800-1725192000@windmillpointpark.com
SUMMARY:JK Ranch Travelling Petting Zoo!
DESCRIPTION:  \n\n \nJK Ranch Travelling Petting Zoo is bringing the farm to you! There will be rabbits\, chickens ducks and guinea pigs as well asa miniature horse and 4 Nigerian Dwarf Goats named Tyler\, Tanner\, Rooster and Maverick!  Their mission is to provide a fun and educational experience for people of all ages. Interact with their friendly animals\, learn about their habits and habitats\, and create unforgettable memories.\n\nMOVIES AND ALL EVENTS ARE SUBJECT TO CHANGE OR CANCELLATION WITHOUT NOTICE.                                                      Children 6 and under must be supervised at all times.
URL:https://windmillpointpark.com/event/jk-ranch-travelling-petting-zoo/
LOCATION:Event Tent
ATTACH;FMTTYPE=image/png:https://windmillpointpark.com/wp-content/uploads/2024/02/JK-Ranch-Travelling-Petting-Zoo.png
END:VEVENT
END:VCALENDAR