BEGIN:VCALENDAR
VERSION:2.0
PRODID:-//Windmill Point Park - ECPv6.11.2//NONSGML v1.0//EN
CALSCALE:GREGORIAN
METHOD:PUBLISH
X-WR-CALNAME:Windmill Point Park
X-ORIGINAL-URL:https://windmillpointpark.com
X-WR-CALDESC:Events for Windmill Point Park
REFRESH-INTERVAL;VALUE=DURATION:PT1H
X-Robots-Tag:noindex
X-PUBLISHED-TTL:PT1H
BEGIN:VTIMEZONE
TZID:America/Toronto
BEGIN:DAYLIGHT
TZOFFSETFROM:-0500
TZOFFSETTO:-0400
TZNAME:EDT
DTSTART:20240310T070000
END:DAYLIGHT
BEGIN:STANDARD
TZOFFSETFROM:-0400
TZOFFSETTO:-0500
TZNAME:EST
DTSTART:20241103T060000
END:STANDARD
END:VTIMEZONE
BEGIN:VEVENT
DTSTART;VALUE=DATE:20240816
DTEND;VALUE=DATE:20240819
DTSTAMP:20260421T074520
CREATED:20230812T155827Z
LAST-MODIFIED:20240814T010921Z
UID:3026-1723766400-1724025599@windmillpointpark.com
SUMMARY:Hallo-Weekend!
DESCRIPTION:IT’LL BE A SCREAM AT THE CAMPGROUND!\nJoin us for a SPOOKTACULAR weekend of fun!
URL:https://windmillpointpark.com/event/halloween/
ATTACH;FMTTYPE=image/png:https://windmillpointpark.com/wp-content/uploads/2024/08/1.png
END:VEVENT
BEGIN:VEVENT
DTSTART;VALUE=DATE:20240817
DTEND;VALUE=DATE:20240819
DTSTAMP:20260421T074520
CREATED:20240712T011221Z
LAST-MODIFIED:20240712T011221Z
UID:4420-1723852800-1724025599@windmillpointpark.com
SUMMARY:MARBLE SLAB CREAMERY
DESCRIPTION:Marble Slab Creamery is back \nserving up happiness for all!\nFind them behind the beach kiosk Saturday and Sunday. \n 
URL:https://windmillpointpark.com/event/marble-slab-creamery-11/
LOCATION:Beach
ATTACH;FMTTYPE=image/png:https://windmillpointpark.com/wp-content/uploads/2024/07/Marble-Slab-2024.png
END:VEVENT
BEGIN:VEVENT
DTSTART;VALUE=DATE:20240817
DTEND;VALUE=DATE:20240818
DTSTAMP:20260421T074520
CREATED:20240814T010106Z
LAST-MODIFIED:20240814T010826Z
UID:4596-1723852800-1723939199@windmillpointpark.com
SUMMARY:Hallo-Weekend Contests!
DESCRIPTION:IT’S CONTEST TIME!\nDress your sites and dress yourselves!  We have prizes for you! \nWinners for the costume contest will be chosen and announced at the Event Tent during Beyond the Groove’s intermission. \nWinners for the Site Decorating contest will be announced via text to all guests on Sunday morning\, before check out.
URL:https://windmillpointpark.com/event/hallo-weekend-contests/
ATTACH;FMTTYPE=image/png:https://windmillpointpark.com/wp-content/uploads/2024/08/2.png
END:VEVENT
BEGIN:VEVENT
DTSTART;TZID=America/Toronto:20240817T070000
DTEND;TZID=America/Toronto:20240817T160000
DTSTAMP:20260421T074520
CREATED:20240729T195408Z
LAST-MODIFIED:20240729T195408Z
UID:4538-1723878000-1723910400@windmillpointpark.com
SUMMARY:Purple Perk Food Truck!
DESCRIPTION:
URL:https://windmillpointpark.com/event/purple-perk-food-truck-4/
LOCATION:Beach
ATTACH;FMTTYPE=image/jpeg:https://windmillpointpark.com/wp-content/uploads/2024/07/Purple-Perk.jpg
END:VEVENT
BEGIN:VEVENT
DTSTART;TZID=America/Toronto:20240817T100000
DTEND;TZID=America/Toronto:20240817T110000
DTSTAMP:20260421T074520
CREATED:20240814T012853Z
LAST-MODIFIED:20240814T012853Z
UID:4616-1723888800-1723892400@windmillpointpark.com
SUMMARY:Kids' Craft:  Hallo-Weekend Edition!
DESCRIPTION:MOVIES AND ALL EVENTS ARE SUBJECT TO CHANGE OR CANCELLATION WITHOUT NOTICE.                                                      Children 6 and under must be supervised at all times.
URL:https://windmillpointpark.com/event/kids-craft-hallo-weekend-edition/
LOCATION:Event Tent
ATTACH;FMTTYPE=image/png:https://windmillpointpark.com/wp-content/uploads/2024/08/4.png
END:VEVENT
END:VCALENDAR