BEGIN:VCALENDAR
VERSION:2.0
PRODID:-//Windmill Point Park - ECPv6.11.2//NONSGML v1.0//EN
CALSCALE:GREGORIAN
METHOD:PUBLISH
X-ORIGINAL-URL:https://windmillpointpark.com
X-WR-CALDESC:Events for Windmill Point Park
REFRESH-INTERVAL;VALUE=DURATION:PT1H
X-Robots-Tag:noindex
X-PUBLISHED-TTL:PT1H
BEGIN:VTIMEZONE
TZID:America/Toronto
BEGIN:DAYLIGHT
TZOFFSETFROM:-0500
TZOFFSETTO:-0400
TZNAME:EDT
DTSTART:20240310T070000
END:DAYLIGHT
BEGIN:STANDARD
TZOFFSETFROM:-0400
TZOFFSETTO:-0500
TZNAME:EST
DTSTART:20241103T060000
END:STANDARD
END:VTIMEZONE
BEGIN:VEVENT
DTSTART;VALUE=DATE:20240816
DTEND;VALUE=DATE:20240819
DTSTAMP:20260421T091224
CREATED:20230812T155827Z
LAST-MODIFIED:20240814T010921Z
UID:3026-1723766400-1724025599@windmillpointpark.com
SUMMARY:Hallo-Weekend!
DESCRIPTION:IT’LL BE A SCREAM AT THE CAMPGROUND!\nJoin us for a SPOOKTACULAR weekend of fun!
URL:https://windmillpointpark.com/event/halloween/
ATTACH;FMTTYPE=image/png:https://windmillpointpark.com/wp-content/uploads/2024/08/1.png
END:VEVENT
BEGIN:VEVENT
DTSTART;TZID=America/Toronto:20240816T190000
DTEND;TZID=America/Toronto:20240816T200000
DTSTAMP:20260421T091224
CREATED:20240814T142055Z
LAST-MODIFIED:20240814T142055Z
UID:4619-1723834800-1723838400@windmillpointpark.com
SUMMARY:Wagon Ride: Hallo-Weekend Edition!
DESCRIPTION:
URL:https://windmillpointpark.com/event/wagon-ride-hallo-weekend-edition/
ATTACH;FMTTYPE=image/png:https://windmillpointpark.com/wp-content/uploads/2024/08/Purple-Yellow-Illustration-Modern-Simple-Kids-Halloween-Flyer.png
END:VEVENT
BEGIN:VEVENT
DTSTART;TZID=America/Toronto:20240816T210000
DTEND;TZID=America/Toronto:20240816T230000
DTSTAMP:20260421T091224
CREATED:20240814T011511Z
LAST-MODIFIED:20240814T012944Z
UID:4607-1723842000-1723849200@windmillpointpark.com
SUMMARY:Movies Under the Stars!  Hallo-Weekend Edition
DESCRIPTION:SEE THE STARS UNDER THE STARS!\nJoin us at dusk behind the Event Tent to watch Haunted Mansion! \n \nA single mom named Gabbie hires a tour guide\, a psychic\, a priest and a historian to help exorcise her newly bought mansion after discovering it is inhabited by ghosts. \nRATED PG-13 \nWatch the official trailer HERE \nMOVIES AND ALL EVENTS ARE SUBJECT TO CHANGE OR CANCELLATION WITHOUT NOTICE.                                                      Children 6 and under must be supervised at all times.
URL:https://windmillpointpark.com/event/movies-under-the-stars-48/
LOCATION:Outdoor Movie Screen
ATTACH;FMTTYPE=image/jpeg:https://windmillpointpark.com/wp-content/uploads/2024/08/Haunted-Mansion.jpg
END:VEVENT
END:VCALENDAR