BEGIN:VCALENDAR
VERSION:2.0
PRODID:-//Windmill Point Park - ECPv6.11.2//NONSGML v1.0//EN
CALSCALE:GREGORIAN
METHOD:PUBLISH
X-WR-CALNAME:Windmill Point Park
X-ORIGINAL-URL:https://windmillpointpark.com
X-WR-CALDESC:Events for Windmill Point Park
REFRESH-INTERVAL;VALUE=DURATION:PT1H
X-Robots-Tag:noindex
X-PUBLISHED-TTL:PT1H
BEGIN:VTIMEZONE
TZID:America/Toronto
BEGIN:DAYLIGHT
TZOFFSETFROM:-0500
TZOFFSETTO:-0400
TZNAME:EDT
DTSTART:20240310T070000
END:DAYLIGHT
BEGIN:STANDARD
TZOFFSETFROM:-0400
TZOFFSETTO:-0500
TZNAME:EST
DTSTART:20241103T060000
END:STANDARD
END:VTIMEZONE
BEGIN:VEVENT
DTSTART;TZID=America/Toronto:20240810T140000
DTEND;TZID=America/Toronto:20240810T150000
DTSTAMP:20260421T074612
CREATED:20230812T155250Z
LAST-MODIFIED:20240730T191032Z
UID:3024-1723298400-1723302000@windmillpointpark.com
SUMMARY:Cardboard Boat Race!
DESCRIPTION:GET READY FOR SOME BIG FUN!\nThe primary purpose of Windmill Point Park & Campground’s Cardboard Boat Race is to have some BIG FUN! Human powered boats made entirely of only cardboard and duct tape will race in the quarry to compete for BRAGGING RIGHTS\, THE WINNER`S TROPHY and other prizes! \nScan the QR code below or click HERE for the registration form.
URL:https://windmillpointpark.com/event/cardboard-boat-race-3/
LOCATION:Beach
ATTACH;FMTTYPE=image/png:https://windmillpointpark.com/wp-content/uploads/2022/08/Cardboard-Boat-Race-Header.png
END:VEVENT
BEGIN:VEVENT
DTSTART;TZID=America/Toronto:20240810T210000
DTEND;TZID=America/Toronto:20240810T230000
DTSTAMP:20260421T074612
CREATED:20240805T190545Z
LAST-MODIFIED:20240805T190545Z
UID:4566-1723323600-1723330800@windmillpointpark.com
SUMMARY:Movies Under the Stars
DESCRIPTION:SEE THE STARS UNDER THE STARS!\nGet your lawn chairs\, blankets and snack and join us behind the Event Tent to watch Super Mario Bros. Movie! \n \n  \nWhile working underground to fix a water main\, Brooklyn plumbers and brothers Mario and Luigi are transported through a mysterious pipe to a magical new world. But when the siblings are separated\, an epic adventure begins. \nRATED: PG \nWatch the official trailer HERE \nMOVIES AND ALL EVENTS ARE SUBJECT TO CHANGE OR CANCELLATION WITHOUT NOTICE.                                                       Children 6 and under must be supervised at all times.
URL:https://windmillpointpark.com/event/movies-under-the-stars-47/
LOCATION:Outdoor Movie Screen
ATTACH;FMTTYPE=image/jpeg:https://windmillpointpark.com/wp-content/uploads/2024/08/Super-Mario-Bros-Movie.jpg
END:VEVENT
END:VCALENDAR