BEGIN:VCALENDAR
VERSION:2.0
PRODID:-//Windmill Point Park - ECPv6.11.2//NONSGML v1.0//EN
CALSCALE:GREGORIAN
METHOD:PUBLISH
X-ORIGINAL-URL:https://windmillpointpark.com
X-WR-CALDESC:Events for Windmill Point Park
REFRESH-INTERVAL;VALUE=DURATION:PT1H
X-Robots-Tag:noindex
X-PUBLISHED-TTL:PT1H
BEGIN:VTIMEZONE
TZID:America/Toronto
BEGIN:DAYLIGHT
TZOFFSETFROM:-0500
TZOFFSETTO:-0400
TZNAME:EDT
DTSTART:20240310T070000
END:DAYLIGHT
BEGIN:STANDARD
TZOFFSETFROM:-0400
TZOFFSETTO:-0500
TZNAME:EST
DTSTART:20241103T060000
END:STANDARD
END:VTIMEZONE
BEGIN:VEVENT
DTSTART;VALUE=DATE:20240802
DTEND;VALUE=DATE:20240806
DTSTAMP:20260421T074650
CREATED:20240803T210721Z
LAST-MODIFIED:20240803T210721Z
UID:4563-1722556800-1722902399@windmillpointpark.com
SUMMARY:IT'S ALL ABOUT BARBIE (AND KEN!) WEEKEND
DESCRIPTION:JOIN US DURING THE CIVIC HOLIDAY FOR SOME BARBIE FUN!
URL:https://windmillpointpark.com/event/its-all-about-barbie-and-ken-weekend/
ATTACH;FMTTYPE=image/png:https://windmillpointpark.com/wp-content/uploads/2024/08/Barbie-Weekend-Mini.png
END:VEVENT
END:VCALENDAR