BEGIN:VCALENDAR
VERSION:2.0
PRODID:-//Windmill Point Park - ECPv6.11.2//NONSGML v1.0//EN
CALSCALE:GREGORIAN
METHOD:PUBLISH
X-WR-CALNAME:Windmill Point Park
X-ORIGINAL-URL:https://windmillpointpark.com
X-WR-CALDESC:Events for Windmill Point Park
REFRESH-INTERVAL;VALUE=DURATION:PT1H
X-Robots-Tag:noindex
X-PUBLISHED-TTL:PT1H
BEGIN:VTIMEZONE
TZID:America/Toronto
BEGIN:DAYLIGHT
TZOFFSETFROM:-0500
TZOFFSETTO:-0400
TZNAME:EDT
DTSTART:20240310T070000
END:DAYLIGHT
BEGIN:STANDARD
TZOFFSETFROM:-0400
TZOFFSETTO:-0500
TZNAME:EST
DTSTART:20241103T060000
END:STANDARD
END:VTIMEZONE
BEGIN:VEVENT
DTSTART;VALUE=DATE:20240727
DTEND;VALUE=DATE:20240729
DTSTAMP:20260421T091203
CREATED:20240712T011104Z
LAST-MODIFIED:20240712T011104Z
UID:4416-1722038400-1722211199@windmillpointpark.com
SUMMARY:MARBLE SLAB CREAMERY
DESCRIPTION:Marble Slab Creamery is back \nserving up happiness for all!\nFind them behind the beach kiosk Saturday and Sunday. \n 
URL:https://windmillpointpark.com/event/marble-slab-creamery-9/
LOCATION:Beach
ATTACH;FMTTYPE=image/png:https://windmillpointpark.com/wp-content/uploads/2024/07/Marble-Slab-2024.png
END:VEVENT
BEGIN:VEVENT
DTSTART;TZID=America/Toronto:20240727T100000
DTEND;TZID=America/Toronto:20240727T110000
DTSTAMP:20260421T091203
CREATED:20240722T162522Z
LAST-MODIFIED:20240723T233853Z
UID:4476-1722074400-1722078000@windmillpointpark.com
SUMMARY:Water Balloon Battleship!
DESCRIPTION:Get ready to get wet playing Water Balloon Battleship!\nIt’s the classic board game using real people and water balloons! \nMeet us at the beach volleyball court at 10am for tons of fun! \n \n  \n  \n  \nMOVIES AND ALL EVENTS ARE SUBJECT TO CHANGE OR CANCELLATION WITHOUT NOTICE. Children 6 and under must be supervised at all times.
URL:https://windmillpointpark.com/event/water-balloon-battleship/
LOCATION:Beach Volleyball Court
ATTACH;FMTTYPE=image/png:https://windmillpointpark.com/wp-content/uploads/2024/07/Water-Balloon-Battleship.png
END:VEVENT
BEGIN:VEVENT
DTSTART;TZID=America/Toronto:20240727T210000
DTEND;TZID=America/Toronto:20240727T230000
DTSTAMP:20260421T091203
CREATED:20240214T223834Z
LAST-MODIFIED:20240710T154639Z
UID:3201-1722114000-1722121200@windmillpointpark.com
SUMMARY:Dive In Movie!
DESCRIPTION:SEE THE STARS UNDER THE STARS!\nGrab your floaties to watch AQUAMAN AND THE LOST KINGDOM in the quarry!\n \nAfter failing to defeat Aquaman the first time\, Black Manta wields the power of the mythic Black Trident to unleash an ancient and malevolent force. Hoping to end his reign of terror\, Aquaman forges an unlikely alliance with his brother\, Orm\, the former king of Atlantis. Setting aside their differences\, they join forces to protect their kingdom and save the world from irreversible destruction. \nRATED PG-13 \nWatch the official trailer HERE \nMOVIES AND ALL EVENTS ARE SUBJECT TO CHANGE OR CANCELLATION WITHOUT NOTICE. \nChildren 6 and under must be supervised at all times.
URL:https://windmillpointpark.com/event/dive-in-movie-3/
LOCATION:Quarry
ATTACH;FMTTYPE=image/jpeg:https://windmillpointpark.com/wp-content/uploads/2024/02/Aquaman-and-the-Lost-Kingdom.jpg
END:VEVENT
END:VCALENDAR