BEGIN:VCALENDAR
VERSION:2.0
PRODID:-//Windmill Point Park - ECPv6.11.2//NONSGML v1.0//EN
CALSCALE:GREGORIAN
METHOD:PUBLISH
X-WR-CALNAME:Windmill Point Park
X-ORIGINAL-URL:https://windmillpointpark.com
X-WR-CALDESC:Events for Windmill Point Park
REFRESH-INTERVAL;VALUE=DURATION:PT1H
X-Robots-Tag:noindex
X-PUBLISHED-TTL:PT1H
BEGIN:VTIMEZONE
TZID:America/Toronto
BEGIN:DAYLIGHT
TZOFFSETFROM:-0500
TZOFFSETTO:-0400
TZNAME:EDT
DTSTART:20240310T070000
END:DAYLIGHT
BEGIN:STANDARD
TZOFFSETFROM:-0400
TZOFFSETTO:-0500
TZNAME:EST
DTSTART:20241103T060000
END:STANDARD
END:VTIMEZONE
BEGIN:VEVENT
DTSTART;TZID=America/Toronto:20240726T200000
DTEND;TZID=America/Toronto:20240726T210000
DTSTAMP:20260419T203919
CREATED:20240723T172409Z
LAST-MODIFIED:20240723T172409Z
UID:4491-1722024000-1722027600@windmillpointpark.com
SUMMARY:Name That Tune Wagon Ride!
DESCRIPTION:Hop on the Windmill Express Wagon Ride for some fun music games and a tour around the campground!\n \n  \n  \nMOVIES AND ALL EVENTS ARE SUBJECT TO CHANGE OR CANCELLATION WITHOUT NOTICE. Children 6 and under must be supervised at all times.
URL:https://windmillpointpark.com/event/name-that-tune-wagon-ride/
LOCATION:Big Chair
ATTACH;FMTTYPE=image/png:https://windmillpointpark.com/wp-content/uploads/2024/07/WAGON-RIDE-POSTER.png
END:VEVENT
END:VCALENDAR