BEGIN:VCALENDAR
VERSION:2.0
PRODID:-//Windmill Point Park - ECPv6.11.2//NONSGML v1.0//EN
CALSCALE:GREGORIAN
METHOD:PUBLISH
X-WR-CALNAME:Windmill Point Park
X-ORIGINAL-URL:https://windmillpointpark.com
X-WR-CALDESC:Events for Windmill Point Park
REFRESH-INTERVAL;VALUE=DURATION:PT1H
X-Robots-Tag:noindex
X-PUBLISHED-TTL:PT1H
BEGIN:VTIMEZONE
TZID:America/Toronto
BEGIN:DAYLIGHT
TZOFFSETFROM:-0500
TZOFFSETTO:-0400
TZNAME:EDT
DTSTART:20240310T070000
END:DAYLIGHT
BEGIN:STANDARD
TZOFFSETFROM:-0400
TZOFFSETTO:-0500
TZNAME:EST
DTSTART:20241103T060000
END:STANDARD
END:VTIMEZONE
BEGIN:VEVENT
DTSTART;VALUE=DATE:20240719
DTEND;VALUE=DATE:20240722
DTSTAMP:20260419T204112
CREATED:20230812T155126Z
LAST-MODIFIED:20240718T205830Z
UID:3022-1721347200-1721606399@windmillpointpark.com
SUMMARY:CHRISTMAS IN JULY!
DESCRIPTION:
URL:https://windmillpointpark.com/event/christmas-in-july-5/
ATTACH;FMTTYPE=image/png:https://windmillpointpark.com/wp-content/uploads/2023/08/1.png
END:VEVENT
BEGIN:VEVENT
DTSTART;VALUE=DATE:20240719
DTEND;VALUE=DATE:20240722
DTSTAMP:20260419T204112
CREATED:20240718T203652Z
LAST-MODIFIED:20240718T203652Z
UID:4464-1721347200-1721606399@windmillpointpark.com
SUMMARY:Grinchmas Site Decorating Contest!
DESCRIPTION:Get in the Grinchmas spirit!\nDecorate your campsite with all things Christmas for a chance to win an amazingly Grinchy prize!\nOne prize will be awarded to a seasonal camper and another for an overnight camper.\n  \nWinners will be announced by text on Sunday morning\, before 11a.m. check-out \n \n  \n 
URL:https://windmillpointpark.com/event/grinchmas-site-decorating-contest/
ATTACH;FMTTYPE=image/jpeg:https://windmillpointpark.com/wp-content/uploads/2024/07/maxresdefault.jpg
END:VEVENT
BEGIN:VEVENT
DTSTART;VALUE=DATE:20240720
DTEND;VALUE=DATE:20240722
DTSTAMP:20260419T204112
CREATED:20240712T010312Z
LAST-MODIFIED:20240712T010920Z
UID:4411-1721433600-1721606399@windmillpointpark.com
SUMMARY:MARBLE SLAB CREAMERY
DESCRIPTION:Marble Slab Creamery is back \nserving up happiness for all!\nFind them behind the beach kiosk Saturday and Sunday. \n 
URL:https://windmillpointpark.com/event/marble-slab-creamery-8/
LOCATION:Beach
ATTACH;FMTTYPE=image/png:https://windmillpointpark.com/wp-content/uploads/2024/07/Marble-Slab-2024.png
END:VEVENT
BEGIN:VEVENT
DTSTART;TZID=America/Toronto:20240721T100000
DTEND;TZID=America/Toronto:20240721T110000
DTSTAMP:20260419T204112
CREATED:20240718T204044Z
LAST-MODIFIED:20240718T204044Z
UID:4471-1721556000-1721559600@windmillpointpark.com
SUMMARY:Grinch Christmas Ornament!
DESCRIPTION:Join us at the Event Tent at 10am for our ornament craft!\nWe’re making Grinches! \n \n  \nFREE!  All art supplies provided\, while they last \nALL EVENTS ARE SUBJECT TO CHANGE OR CANCELLATION WITHOUT NOTICE. \nChildren 6 and under must be supervised at all times. \n 
URL:https://windmillpointpark.com/event/grinch-christmas-ornament/
LOCATION:Event Tent
ATTACH;FMTTYPE=image/webp:https://windmillpointpark.com/wp-content/uploads/2024/07/how-to-make-a-wooden-slice-grinch-4.jpg.webp
END:VEVENT
BEGIN:VEVENT
DTSTART;TZID=America/Toronto:20240721T120000
DTEND;TZID=America/Toronto:20240721T210000
DTSTAMP:20260419T204112
CREATED:20240712T133202Z
LAST-MODIFIED:20240718T204138Z
UID:4435-1721563200-1721595600@windmillpointpark.com
SUMMARY:Private Event
DESCRIPTION:
URL:https://windmillpointpark.com/event/private-event-3/
LOCATION:Event Tent
ATTACH;FMTTYPE=image/png:https://windmillpointpark.com/wp-content/uploads/2023/06/Event-Tent-Private-Function-Sign.png
END:VEVENT
END:VCALENDAR