BEGIN:VCALENDAR
VERSION:2.0
PRODID:-//Windmill Point Park - ECPv6.11.2//NONSGML v1.0//EN
CALSCALE:GREGORIAN
METHOD:PUBLISH
X-WR-CALNAME:Windmill Point Park
X-ORIGINAL-URL:https://windmillpointpark.com
X-WR-CALDESC:Events for Windmill Point Park
REFRESH-INTERVAL;VALUE=DURATION:PT1H
X-Robots-Tag:noindex
X-PUBLISHED-TTL:PT1H
BEGIN:VTIMEZONE
TZID:America/Toronto
BEGIN:DAYLIGHT
TZOFFSETFROM:-0500
TZOFFSETTO:-0400
TZNAME:EDT
DTSTART:20240310T070000
END:DAYLIGHT
BEGIN:STANDARD
TZOFFSETFROM:-0400
TZOFFSETTO:-0500
TZNAME:EST
DTSTART:20241103T060000
END:STANDARD
END:VTIMEZONE
BEGIN:VEVENT
DTSTART;TZID=America/Toronto:20240714T100000
DTEND;TZID=America/Toronto:20240714T110000
DTSTAMP:20260419T205442
CREATED:20240711T165043Z
LAST-MODIFIED:20240711T165122Z
UID:4397-1720951200-1720954800@windmillpointpark.com
SUMMARY:KIDS' CRAFT - MAKE YOUR OWN MOVING DUCK!
DESCRIPTION:Meet us at the Event Tent to make your own moving duck! \n \nFREE!  All supplies are provided while they last. \nMOVIES AND ALL EVENTS ARE SUBJECT TO CHANGE OR CANCELLATION WITHOUT NOTICE. Children 6 and under must be supervised at all times. \n 
URL:https://windmillpointpark.com/event/kids-craft-make-your-own-moving-duck/
LOCATION:Event Tent
ATTACH;FMTTYPE=image/png:https://windmillpointpark.com/wp-content/uploads/2024/07/Duck-Craft.png
END:VEVENT
END:VCALENDAR