BEGIN:VCALENDAR
VERSION:2.0
PRODID:-//Windmill Point Park - ECPv6.11.2//NONSGML v1.0//EN
CALSCALE:GREGORIAN
METHOD:PUBLISH
X-ORIGINAL-URL:https://windmillpointpark.com
X-WR-CALDESC:Events for Windmill Point Park
REFRESH-INTERVAL;VALUE=DURATION:PT1H
X-Robots-Tag:noindex
X-PUBLISHED-TTL:PT1H
BEGIN:VTIMEZONE
TZID:America/Toronto
BEGIN:DAYLIGHT
TZOFFSETFROM:-0500
TZOFFSETTO:-0400
TZNAME:EDT
DTSTART:20240310T070000
END:DAYLIGHT
BEGIN:STANDARD
TZOFFSETFROM:-0400
TZOFFSETTO:-0500
TZNAME:EST
DTSTART:20241103T060000
END:STANDARD
END:VTIMEZONE
BEGIN:VEVENT
DTSTART;VALUE=DATE:20240713
DTEND;VALUE=DATE:20240714
DTSTAMP:20260421T091254
CREATED:20240712T020407Z
LAST-MODIFIED:20240712T143941Z
UID:4424-1720828800-1720915199@windmillpointpark.com
SUMMARY:BeaverTails Food Truck!
DESCRIPTION:“Beavertails: the famously flat donuts! Deliciously addictive\, whole-wheat Canadian pastries served piping hot with your choice of delectable toppings.”\nFind them behind the Beach Kiosk!
URL:https://windmillpointpark.com/event/beavertails-food-truck/
LOCATION:Beach
ATTACH;FMTTYPE=image/png:https://windmillpointpark.com/wp-content/uploads/2024/07/BeaverTails-Logo.png
END:VEVENT
BEGIN:VEVENT
DTSTART;TZID=America/Toronto:20240713T100000
DTEND;TZID=America/Toronto:20240713T110000
DTSTAMP:20260421T091254
CREATED:20240711T165607Z
LAST-MODIFIED:20240711T165607Z
UID:4402-1720864800-1720868400@windmillpointpark.com
SUMMARY:KIDS' CRAFT - BIRD PEBBLE ART!
DESCRIPTION:Meet us at the Event Tent to make your own BIRD PEBBLE ART! \n \nFREE!  All supplies are provided while they last. \nMOVIES AND ALL EVENTS ARE SUBJECT TO CHANGE OR CANCELLATION WITHOUT NOTICE. Children 6 and under must be supervised at all times. \n 
URL:https://windmillpointpark.com/event/kids-craft-bird-pebble-art/
LOCATION:Event Tent
ATTACH;FMTTYPE=image/png:https://windmillpointpark.com/wp-content/uploads/2024/07/Bird-Rock-Art-Screenshot-.png
END:VEVENT
BEGIN:VEVENT
DTSTART;TZID=America/Toronto:20240713T210000
DTEND;TZID=America/Toronto:20240713T230000
DTSTAMP:20260421T091254
CREATED:20240710T150957Z
LAST-MODIFIED:20240711T163927Z
UID:4388-1720904400-1720911600@windmillpointpark.com
SUMMARY:Movies Under the Stars!
DESCRIPTION:SEE THE STARS UNDER THE STARS!\nJOIN US FOR MIGRATION! \n \nA family of ducks decides to leave the safety of a New England pond for an adventurous trip to Jamaica. However\, their well-laid plans quickly go awry when they get lost and wind up in New York City. The experience soon inspires them to expand their horizons\, open themselves up to new friends\, and accomplish more than they ever thought possible. \n  \nRATED PG \nWATCH THE OFFICIAL TRAILER HERE \nMOVIES AND ALL EVENTS ARE SUBJECT TO CHANGE OR CANCELLATION WITHOUT NOTICE. \nChildren 6 and under must be supervised at all times.
URL:https://windmillpointpark.com/event/movies-under-the-stars-45/
LOCATION:Outdoor Movie Screen
ATTACH;FMTTYPE=image/jpeg:https://windmillpointpark.com/wp-content/uploads/2024/07/MIGRATION-MOVIE.jpg
END:VEVENT
END:VCALENDAR