BEGIN:VCALENDAR
VERSION:2.0
PRODID:-//Windmill Point Park - ECPv6.11.2//NONSGML v1.0//EN
CALSCALE:GREGORIAN
METHOD:PUBLISH
X-ORIGINAL-URL:https://windmillpointpark.com
X-WR-CALDESC:Events for Windmill Point Park
REFRESH-INTERVAL;VALUE=DURATION:PT1H
X-Robots-Tag:noindex
X-PUBLISHED-TTL:PT1H
BEGIN:VTIMEZONE
TZID:America/Toronto
BEGIN:DAYLIGHT
TZOFFSETFROM:-0500
TZOFFSETTO:-0400
TZNAME:EDT
DTSTART:20240310T070000
END:DAYLIGHT
BEGIN:STANDARD
TZOFFSETFROM:-0400
TZOFFSETTO:-0500
TZNAME:EST
DTSTART:20241103T060000
END:STANDARD
END:VTIMEZONE
BEGIN:VEVENT
DTSTART;TZID=America/Toronto:20240712T190000
DTEND;TZID=America/Toronto:20240712T210000
DTSTAMP:20260419T222112
CREATED:20240711T164513Z
LAST-MODIFIED:20240711T183641Z
UID:4395-1720810800-1720818000@windmillpointpark.com
SUMMARY:Wagon Ride Around the Campground!
DESCRIPTION:Meet us at the Big Chair to hop on board your\nwagon ride around the campground!\nStarts at 8:00pm.  See  you there!\n \n  \n  \nMOVIES AND ALL EVENTS ARE SUBJECT TO CHANGE OR CANCELLATION WITHOUT NOTICE. Children 6 and under must be supervised at all times.
URL:https://windmillpointpark.com/event/wagon-ride-around-the-campground/
LOCATION:Big Chair
ATTACH;FMTTYPE=image/png:https://windmillpointpark.com/wp-content/uploads/2023/06/Wagon-Ride-Image-2023.png
END:VEVENT
END:VCALENDAR