BEGIN:VCALENDAR
VERSION:2.0
PRODID:-//Windmill Point Park - ECPv6.11.2//NONSGML v1.0//EN
CALSCALE:GREGORIAN
METHOD:PUBLISH
X-WR-CALNAME:Windmill Point Park
X-ORIGINAL-URL:https://windmillpointpark.com
X-WR-CALDESC:Events for Windmill Point Park
REFRESH-INTERVAL;VALUE=DURATION:PT1H
X-Robots-Tag:noindex
X-PUBLISHED-TTL:PT1H
BEGIN:VTIMEZONE
TZID:America/Toronto
BEGIN:DAYLIGHT
TZOFFSETFROM:-0500
TZOFFSETTO:-0400
TZNAME:EDT
DTSTART:20240310T070000
END:DAYLIGHT
BEGIN:STANDARD
TZOFFSETFROM:-0400
TZOFFSETTO:-0500
TZNAME:EST
DTSTART:20241103T060000
END:STANDARD
END:VTIMEZONE
BEGIN:VEVENT
DTSTART;TZID=America/Toronto:20240706T100000
DTEND;TZID=America/Toronto:20240706T110000
DTSTAMP:20260419T213914
CREATED:20240705T172148Z
LAST-MODIFIED:20240705T172148Z
UID:4361-1720260000-1720263600@windmillpointpark.com
SUMMARY:Kids' Activity!
DESCRIPTION:Meet us at the Event Tent for a fast paced\, action packed game of\nRock\, Paper\, Scissors!\n \n  \nMOVIES AND ALL EVENTS ARE SUBJECT TO CHANGE OR CANCELLATION WITHOUT NOTICE. \nChildren 6 and under must be supervised at all times. \n 
URL:https://windmillpointpark.com/event/kids-activity-9/
LOCATION:Event Tent
ATTACH;FMTTYPE=image/jpeg:https://windmillpointpark.com/wp-content/uploads/2024/07/Rock-Paper-Scissors-copy.jpg
END:VEVENT
BEGIN:VEVENT
DTSTART;TZID=America/Toronto:20240706T100000
DTEND;TZID=America/Toronto:20240706T110000
DTSTAMP:20260419T213914
CREATED:20240705T174745Z
LAST-MODIFIED:20240705T192550Z
UID:4369-1720260000-1720263600@windmillpointpark.com
SUMMARY:KIDS' CRAFT
DESCRIPTION:OIN US AT THE EVENT TENT TO MAKE\nYOUR OWN BABY PO!\n \n  \nFREE!  All supplies are provided while they last. \nMOVIES AND ALL EVENTS ARE SUBJECT TO CHANGE OR CANCELLATION WITHOUT NOTICE. \nChildren 6 and under must be supervised at all times. \n 
URL:https://windmillpointpark.com/event/kids-craft-6/
LOCATION:Event Tent
ATTACH;FMTTYPE=image/png:https://windmillpointpark.com/wp-content/uploads/2024/07/Baby-Po-Craft.png
END:VEVENT
BEGIN:VEVENT
DTSTART;TZID=America/Toronto:20240706T210000
DTEND;TZID=America/Toronto:20240706T230000
DTSTAMP:20260419T213914
CREATED:20240705T173140Z
LAST-MODIFIED:20240705T173209Z
UID:4365-1720299600-1720306800@windmillpointpark.com
SUMMARY:Movie Under the Stars!
DESCRIPTION:SEE THE STARS UNDER THE STARS!\nKUNG FU PANDA 4!\n \nAfter Po is tapped to become the Spiritual Leader of the Valley of Peace\, he needs to find and train a new Dragon Warrior\, while a wicked sorceress plans to re-summon all the master villains whom Po has vanquished to the spirit realm. \n  \nRATED PG \nCLICK HERE FOR TRAILER \nFREE! \nMOVIES AND ALL EVENTS ARE SUBJECT TO CHANGE OR CANCELLATION WITHOUT NOTICE. \nChildren 6 and under must be supervised at all times.
URL:https://windmillpointpark.com/event/movie-under-the-stars-24/
LOCATION:Outdoor Movie Screen
ATTACH;FMTTYPE=image/jpeg:https://windmillpointpark.com/wp-content/uploads/2024/07/KUNG-FU-PANDA-4-.jpg
END:VEVENT
END:VCALENDAR