BEGIN:VCALENDAR
VERSION:2.0
PRODID:-//Windmill Point Park - ECPv6.11.2//NONSGML v1.0//EN
CALSCALE:GREGORIAN
METHOD:PUBLISH
X-ORIGINAL-URL:https://windmillpointpark.com
X-WR-CALDESC:Events for Windmill Point Park
REFRESH-INTERVAL;VALUE=DURATION:PT1H
X-Robots-Tag:noindex
X-PUBLISHED-TTL:PT1H
BEGIN:VTIMEZONE
TZID:America/Toronto
BEGIN:DAYLIGHT
TZOFFSETFROM:-0500
TZOFFSETTO:-0400
TZNAME:EDT
DTSTART:20230312T070000
END:DAYLIGHT
BEGIN:STANDARD
TZOFFSETFROM:-0400
TZOFFSETTO:-0500
TZNAME:EST
DTSTART:20231105T060000
END:STANDARD
END:VTIMEZONE
BEGIN:VEVENT
DTSTART;VALUE=DATE:20230901
DTEND;VALUE=DATE:20230904
DTSTAMP:20260425T172133
CREATED:20230816T184907Z
LAST-MODIFIED:20230816T184907Z
UID:3062-1693526400-1693785599@windmillpointpark.com
SUMMARY:Clover Kitchens
DESCRIPTION:Fresh & ready to go!\n\n\n\n\nSandwiches\, Salads & Soups\n\n\n\n\nWelcome to Clover Kitchens – your local stop for top quality and convenient sandwiches\, salads and soups. Our fresh ingredients and housemade recipes deliver robust flavours at great value.
URL:https://windmillpointpark.com/event/clover-kitchens-2/
LOCATION:Event Tent
ATTACH;FMTTYPE=image/png:https://windmillpointpark.com/wp-content/uploads/2023/06/Clover-Kitchens-Logo.png
END:VEVENT
BEGIN:VEVENT
DTSTART;TZID=America/Toronto:20230903T100000
DTEND;TZID=America/Toronto:20230903T110000
DTSTAMP:20260425T172133
CREATED:20230901T143537Z
LAST-MODIFIED:20230901T143537Z
UID:3110-1693735200-1693738800@windmillpointpark.com
SUMMARY:Scavenger Hunt! - Back to School Edition
DESCRIPTION:We’re changing it up again!  Visit us at Guest Services to see how we’re making the plain old scavenger hunt more interesting! Get your scavenger hunt sheet and instructions at Guest Services at 10am on Sunday\, September 3! \nHappy Hunting! \n \nMOVIES AND ALL EVENTS ARE SUBJECT TO CHANGE OR CANCELLATION WITHOUT NOTICE. Children 6 and under must be supervised at all times.
URL:https://windmillpointpark.com/event/scavenger-hunt-back-to-school-edition/
ATTACH;FMTTYPE=image/png:https://windmillpointpark.com/wp-content/uploads/2023/09/September-3rd-Scavenger-Scramble.png
END:VEVENT
BEGIN:VEVENT
DTSTART;TZID=America/Toronto:20230903T210000
DTEND;TZID=America/Toronto:20230903T223000
DTSTAMP:20260425T172133
CREATED:20230816T185721Z
LAST-MODIFIED:20230816T185732Z
UID:3064-1693774800-1693780200@windmillpointpark.com
SUMMARY:Anthony D'Epiro Comedy Hypnosis Show!
DESCRIPTION:See Anthony D’Epiro in his debut hypnosis show\, only at Windmill Point Park & Campground! \nProceeds of the show will be donated to Care Camps\, who give joy\, hope\, and healing power of the outdoors to children with cancer and their families at a specialized oncology camp. \n  \n \nFREE admission for all registered campers! \nNot camping with us?  No problem! Purchase your tickets HERE \n  \n 
URL:https://windmillpointpark.com/event/anthony-depiro-comedy-hypnosis-show/
LOCATION:Event Tent
ATTACH;FMTTYPE=image/png:https://windmillpointpark.com/wp-content/uploads/2023/08/Anthony-DEpiro-Hypnotist-2.png
END:VEVENT
END:VCALENDAR