BEGIN:VCALENDAR
VERSION:2.0
PRODID:-//Windmill Point Park - ECPv6.11.2//NONSGML v1.0//EN
CALSCALE:GREGORIAN
METHOD:PUBLISH
X-WR-CALNAME:Windmill Point Park
X-ORIGINAL-URL:https://windmillpointpark.com
X-WR-CALDESC:Events for Windmill Point Park
REFRESH-INTERVAL;VALUE=DURATION:PT1H
X-Robots-Tag:noindex
X-PUBLISHED-TTL:PT1H
BEGIN:VTIMEZONE
TZID:America/Toronto
BEGIN:DAYLIGHT
TZOFFSETFROM:-0500
TZOFFSETTO:-0400
TZNAME:EDT
DTSTART:20230312T070000
END:DAYLIGHT
BEGIN:STANDARD
TZOFFSETFROM:-0400
TZOFFSETTO:-0500
TZNAME:EST
DTSTART:20231105T060000
END:STANDARD
END:VTIMEZONE
BEGIN:VEVENT
DTSTART;VALUE=DATE:20230825
DTEND;VALUE=DATE:20230828
DTSTAMP:20260425T172123
CREATED:20230701T012318Z
LAST-MODIFIED:20230825T152241Z
UID:2842-1692921600-1693180799@windmillpointpark.com
SUMMARY:PURPLE PERK MOBILE COFFEE
DESCRIPTION:Hey! How you doin’?\nWe’re doing great now that the Purple Perk food truck is here!  Gourmet coffees and drinks and lots and lots of homemade treats! \nVisit Tara in front of the Event Tent. \n \n  \nMOVIES AND ALL EVENTS ARE SUBJECT TO CHANGE OR CANCELLATION WITHOUT NOTICE. \nChildren 6 and under must be supervised at all times.
URL:https://windmillpointpark.com/event/purple-perk-mobile-coffee-2/
LOCATION:Event Tent
ATTACH;FMTTYPE=image/png:https://windmillpointpark.com/wp-content/uploads/2023/06/PURPLE-PERK.png
END:VEVENT
BEGIN:VEVENT
DTSTART;VALUE=DATE:20230825
DTEND;VALUE=DATE:20230828
DTSTAMP:20260425T172123
CREATED:20230816T184817Z
LAST-MODIFIED:20230816T184817Z
UID:3060-1692921600-1693180799@windmillpointpark.com
SUMMARY:Clover Kitchens
DESCRIPTION:Fresh & ready to go!\n\n\n\n\nSandwiches\, Salads & Soups\n\n\n\n\nWelcome to Clover Kitchens – your local stop for top quality and convenient sandwiches\, salads and soups. Our fresh ingredients and housemade recipes deliver robust flavours at great value.
URL:https://windmillpointpark.com/event/clover-kitchens/
LOCATION:Event Tent
ATTACH;FMTTYPE=image/png:https://windmillpointpark.com/wp-content/uploads/2023/06/Clover-Kitchens-Logo.png
END:VEVENT
BEGIN:VEVENT
DTSTART;VALUE=DATE:20230826
DTEND;VALUE=DATE:20230828
DTSTAMP:20260425T172123
CREATED:20230701T022045Z
LAST-MODIFIED:20230701T022121Z
UID:2861-1693008000-1693180799@windmillpointpark.com
SUMMARY:MARBLE SLAB CREAMERY
DESCRIPTION:I SCREAM\, YOU SCREAM\, WE ALL SCREAM FOR ICE CREAM!\nWe’re excited to have Marble Slab Creamery here to serve up some happiness! \n \nMOVIES AND ALL EVENTS ARE SUBJECT TO CHANGE OR CANCELLATION WITHOUT NOTICE. \nChildren 6 and under must be supervised at all times.
URL:https://windmillpointpark.com/event/marble-slab-creamery-6/
LOCATION:Event Tent
ATTACH;FMTTYPE=image/png:https://windmillpointpark.com/wp-content/uploads/2023/06/Marble-Slab-Creamery.png
END:VEVENT
BEGIN:VEVENT
DTSTART;TZID=America/Toronto:20230827T090000
DTEND;TZID=America/Toronto:20230827T210000
DTSTAMP:20260425T172123
CREATED:20230821T174222Z
LAST-MODIFIED:20230821T174222Z
UID:3092-1693126800-1693170000@windmillpointpark.com
SUMMARY:Private Function
DESCRIPTION:The Event Tent will be unavailable from 9am to 9pm for a private function.
URL:https://windmillpointpark.com/event/private-function-3/
ATTACH;FMTTYPE=image/png:https://windmillpointpark.com/wp-content/uploads/2023/06/Event-Tent-Private-Function-Sign.png
END:VEVENT
END:VCALENDAR