BEGIN:VCALENDAR
VERSION:2.0
PRODID:-//Windmill Point Park - ECPv6.11.2//NONSGML v1.0//EN
CALSCALE:GREGORIAN
METHOD:PUBLISH
X-ORIGINAL-URL:https://windmillpointpark.com
X-WR-CALDESC:Events for Windmill Point Park
REFRESH-INTERVAL;VALUE=DURATION:PT1H
X-Robots-Tag:noindex
X-PUBLISHED-TTL:PT1H
BEGIN:VTIMEZONE
TZID:America/Toronto
BEGIN:DAYLIGHT
TZOFFSETFROM:-0500
TZOFFSETTO:-0400
TZNAME:EDT
DTSTART:20230312T070000
END:DAYLIGHT
BEGIN:STANDARD
TZOFFSETFROM:-0400
TZOFFSETTO:-0500
TZNAME:EST
DTSTART:20231105T060000
END:STANDARD
END:VTIMEZONE
BEGIN:VEVENT
DTSTART;VALUE=DATE:20230818
DTEND;VALUE=DATE:20230821
DTSTAMP:20260420T010237
CREATED:20220819T153426Z
LAST-MODIFIED:20230816T190501Z
UID:2538-1692316800-1692575999@windmillpointpark.com
SUMMARY:HALLOWEEN SKELE-BRATION WEEKEND!
DESCRIPTION:  \nIT’S A FRIGHTFUL TIME TO GO CAMPING AT WINDMILL!\nJoin us for a spooktacular weekend of fun! \n \nMOVIES AND ALL EVENTS ARE SUBJECT TO CHANGE OR CANCELLATION WITHOUT NOTICE. Children 6 and under must be supervised at all times.
URL:https://windmillpointpark.com/event/halloween-in-august-4/
ATTACH;FMTTYPE=image/png:https://windmillpointpark.com/wp-content/uploads/2022/08/Halloween-Skele-bration-2023-Banner.png
END:VEVENT
BEGIN:VEVENT
DTSTART;VALUE=DATE:20230818
DTEND;VALUE=DATE:20230821
DTSTAMP:20260420T010237
CREATED:20230701T010055Z
LAST-MODIFIED:20230816T184641Z
UID:2837-1692316800-1692575999@windmillpointpark.com
SUMMARY:Clover Kitchens
DESCRIPTION:Fresh & ready to go!\n\n\n\n\nSandwiches\, Salads & Soups\n\n\n\n\nWelcome to Clover Kitchens – your local stop for top quality and convenient sandwiches\, salads and soups. Our fresh ingredients and housemade recipes deliver robust flavours at great value.
URL:https://windmillpointpark.com/event/purple-perk-mobile-coffee/
LOCATION:Event Tent
ATTACH;FMTTYPE=image/png:https://windmillpointpark.com/wp-content/uploads/2023/06/Clover-Kitchens-Logo.png
END:VEVENT
BEGIN:VEVENT
DTSTART;VALUE=DATE:20230818
DTEND;VALUE=DATE:20230821
DTSTAMP:20260420T010237
CREATED:20230816T191346Z
LAST-MODIFIED:20230816T191346Z
UID:3072-1692316800-1692575999@windmillpointpark.com
SUMMARY:HALLOWEEN CONTESTS!
DESCRIPTION:IT’S CONTEST TIME!\nDress your sites and dress yourselves!  We have prizes for you! \nWinners for the costume contest will be chosen and announced at the Event Tent during Beyond the Groove’s intermission. \nWinners for the Site Decorating contest will be announced via text to all guests on Sunday morning\, before check out.
URL:https://windmillpointpark.com/event/halloween-contests-3/
ATTACH;FMTTYPE=image/png:https://windmillpointpark.com/wp-content/uploads/2023/08/2-1.png
END:VEVENT
END:VCALENDAR