BEGIN:VCALENDAR
VERSION:2.0
PRODID:-//Windmill Point Park - ECPv6.11.2//NONSGML v1.0//EN
CALSCALE:GREGORIAN
METHOD:PUBLISH
X-ORIGINAL-URL:https://windmillpointpark.com
X-WR-CALDESC:Events for Windmill Point Park
REFRESH-INTERVAL;VALUE=DURATION:PT1H
X-Robots-Tag:noindex
X-PUBLISHED-TTL:PT1H
BEGIN:VTIMEZONE
TZID:America/Toronto
BEGIN:DAYLIGHT
TZOFFSETFROM:-0500
TZOFFSETTO:-0400
TZNAME:EDT
DTSTART:20230312T070000
END:DAYLIGHT
BEGIN:STANDARD
TZOFFSETFROM:-0400
TZOFFSETTO:-0500
TZNAME:EST
DTSTART:20231105T060000
END:STANDARD
END:VTIMEZONE
BEGIN:VEVENT
DTSTART;VALUE=DATE:20230729
DTEND;VALUE=DATE:20230731
DTSTAMP:20260425T155007
CREATED:20230701T021341Z
LAST-MODIFIED:20230701T021341Z
UID:2854-1690588800-1690761599@windmillpointpark.com
SUMMARY:MARBLE SLAB CREAMERY
DESCRIPTION:I SCREAM\, YOU SCREAM\, WE ALL SCREAM FOR ICE CREAM!\nWe’re excited to have Marble Slab Creamery here to serve up some happiness!
URL:https://windmillpointpark.com/event/marble-slab-creamery-3/
LOCATION:Event Tent
ATTACH;FMTTYPE=image/png:https://windmillpointpark.com/wp-content/uploads/2023/06/Marble-Slab-Creamery.png
END:VEVENT
BEGIN:VEVENT
DTSTART;TZID=America/Toronto:20230729T100000
DTEND;TZID=America/Toronto:20230729T110000
DTSTAMP:20260425T155007
CREATED:20230726T215422Z
LAST-MODIFIED:20230726T215422Z
UID:2928-1690624800-1690628400@windmillpointpark.com
SUMMARY:KIDS' CRAFT!
DESCRIPTION:SWIMMING FISH!\nIn honour of THE LITTLE MERMAID\, we’re doing a swimming fish craft!  Meet us at the Event Tent at 10am. \nBest of all\, all craft supplies are free! \n \n  \n  \nMOVIES AND ALL EVENTS ARE SUBJECT TO CHANGE OR CANCELLATION WITHOUT NOTICE. Children 6 and under must be supervised at all times. \n 
URL:https://windmillpointpark.com/event/kids-craft-4/
LOCATION:Event Tent
ATTACH;FMTTYPE=image/webp:https://windmillpointpark.com/wp-content/uploads/2023/07/Swimming-Fish-Craft-CG.webp
END:VEVENT
BEGIN:VEVENT
DTSTART;TZID=America/Toronto:20230729T210000
DTEND;TZID=America/Toronto:20230729T230000
DTSTAMP:20260425T155007
CREATED:20230701T023047Z
LAST-MODIFIED:20230726T214452Z
UID:2870-1690664400-1690671600@windmillpointpark.com
SUMMARY:DIVE IN MOVIE
DESCRIPTION:SEE THE STARS UNDER THE STARS!\nGrab your floaties to watch THE LITTLE MERMAID in the quarry!\n \nThe youngest of King Triton’s daughters\, and the most defiant\, Ariel longs to find out more about the world beyond the sea\, and while visiting the surface\, falls for the dashing Prince Eric. While mermaids are forbidden to interact with humans\, Ariel must follow her heart. She makes a deal with the evil sea witch\, Ursula\, which gives her a chance to experience life on land\, but ultimately places her life — and her father’s crown — in jeopardy. \nRATED: PG \nClick HERE to watch the official trailer. \nMOVIES AND ALL EVENTS ARE SUBJECT TO CHANGE OR CANCELLATION WITHOUT NOTICE. \nChildren 6 and under must be supervised at all times.
URL:https://windmillpointpark.com/event/dive-in-movie-2/
LOCATION:Quarry
ATTACH;FMTTYPE=image/png:https://windmillpointpark.com/wp-content/uploads/2023/06/Little-Mermaid-2.png
END:VEVENT
END:VCALENDAR