BEGIN:VCALENDAR
VERSION:2.0
PRODID:-//Windmill Point Park - ECPv6.11.2//NONSGML v1.0//EN
CALSCALE:GREGORIAN
METHOD:PUBLISH
X-WR-CALNAME:Windmill Point Park
X-ORIGINAL-URL:https://windmillpointpark.com
X-WR-CALDESC:Events for Windmill Point Park
REFRESH-INTERVAL;VALUE=DURATION:PT1H
X-Robots-Tag:noindex
X-PUBLISHED-TTL:PT1H
BEGIN:VTIMEZONE
TZID:America/Toronto
BEGIN:DAYLIGHT
TZOFFSETFROM:-0500
TZOFFSETTO:-0400
TZNAME:EDT
DTSTART:20230312T070000
END:DAYLIGHT
BEGIN:STANDARD
TZOFFSETFROM:-0400
TZOFFSETTO:-0500
TZNAME:EST
DTSTART:20231105T060000
END:STANDARD
END:VTIMEZONE
BEGIN:VEVENT
DTSTART;VALUE=DATE:20230721
DTEND;VALUE=DATE:20230724
DTSTAMP:20260420T114843
CREATED:20220819T153217Z
LAST-MODIFIED:20230721T135555Z
UID:2536-1689897600-1690156799@windmillpointpark.com
SUMMARY:CHRISTMAS IN JULY!
DESCRIPTION:IT’S THE MOST WONDERFUL TIME OF THE YEAR!\nIT’S CHRISTMAS IN JULY!\n 
URL:https://windmillpointpark.com/event/christmas-in-july-4/
ATTACH;FMTTYPE=image/png:https://windmillpointpark.com/wp-content/uploads/2022/08/1-1.png
END:VEVENT
BEGIN:VEVENT
DTSTART;VALUE=DATE:20230722
DTEND;VALUE=DATE:20230724
DTSTAMP:20260420T114843
CREATED:20230701T020147Z
LAST-MODIFIED:20230701T020147Z
UID:2845-1689984000-1690156799@windmillpointpark.com
SUMMARY:MARBLE SLAB CREAMERY
DESCRIPTION:I SCREAM\, YOU SCREAM\, WE ALL SCREAM FOR ICE CREAM! \nWe’re excited to have Marble Slab Creamery here to serve up some happiness!
URL:https://windmillpointpark.com/event/marble-slab-creamery-2/
LOCATION:Event Tent
ATTACH;FMTTYPE=image/png:https://windmillpointpark.com/wp-content/uploads/2023/06/Marble-Slab-Creamery.png
END:VEVENT
BEGIN:VEVENT
DTSTART;TZID=America/Toronto:20230722T100000
DTEND;TZID=America/Toronto:20230722T110000
DTSTAMP:20260420T114843
CREATED:20230721T133701Z
LAST-MODIFIED:20230721T133701Z
UID:2915-1690020000-1690023600@windmillpointpark.com
SUMMARY:Ornament Craft!
DESCRIPTION:REINDEER ORNAMENTS!\nWe’re making these ornaments at the Event Tent at 10am!
URL:https://windmillpointpark.com/event/ornament-craft/
LOCATION:Event Tent
ATTACH;FMTTYPE=image/jpeg:https://windmillpointpark.com/wp-content/uploads/2023/07/Reinderr-Ornament.jpeg
END:VEVENT
BEGIN:VEVENT
DTSTART;TZID=America/Toronto:20230722T210000
DTEND;TZID=America/Toronto:20230722T230000
DTSTAMP:20260420T114843
CREATED:20230721T133216Z
LAST-MODIFIED:20230721T135225Z
UID:2912-1690059600-1690066800@windmillpointpark.com
SUMMARY:Movies Under the Stars!
DESCRIPTION:SEE THE STARS UNDER THE STARS!\nWatch NOELLE!\n \n  \nKris Kringle’s daughter is full of Christmas spirit but wishes she could do something important like her brother Nick\, who will take over for their father this Christmas. When Nick is about to crumble like a gingerbread cookie from all the pressure\, Noelle suggests he take a break and get away…but when he doesn’t return\, Noelle must find her brother and bring him back in time to save Christmas. \nRATED PG \nClick HERE for official trailer
URL:https://windmillpointpark.com/event/movies-under-the-stars-38/
LOCATION:Outdoor Movie Screen
ATTACH;FMTTYPE=image/png:https://windmillpointpark.com/wp-content/uploads/2023/07/Movie-Night.png
END:VEVENT
END:VCALENDAR