BEGIN:VCALENDAR
VERSION:2.0
PRODID:-//Windmill Point Park - ECPv6.11.2//NONSGML v1.0//EN
CALSCALE:GREGORIAN
METHOD:PUBLISH
X-ORIGINAL-URL:https://windmillpointpark.com
X-WR-CALDESC:Events for Windmill Point Park
REFRESH-INTERVAL;VALUE=DURATION:PT1H
X-Robots-Tag:noindex
X-PUBLISHED-TTL:PT1H
BEGIN:VTIMEZONE
TZID:America/Toronto
BEGIN:DAYLIGHT
TZOFFSETFROM:-0500
TZOFFSETTO:-0400
TZNAME:EDT
DTSTART:20230312T070000
END:DAYLIGHT
BEGIN:STANDARD
TZOFFSETFROM:-0400
TZOFFSETTO:-0500
TZNAME:EST
DTSTART:20231105T060000
END:STANDARD
END:VTIMEZONE
BEGIN:VEVENT
DTSTART;VALUE=DATE:20230721
DTEND;VALUE=DATE:20230724
DTSTAMP:20260422T065815
CREATED:20220819T153217Z
LAST-MODIFIED:20230721T135555Z
UID:2536-1689897600-1690156799@windmillpointpark.com
SUMMARY:CHRISTMAS IN JULY!
DESCRIPTION:IT’S THE MOST WONDERFUL TIME OF THE YEAR!\nIT’S CHRISTMAS IN JULY!\n 
URL:https://windmillpointpark.com/event/christmas-in-july-4/
ATTACH;FMTTYPE=image/png:https://windmillpointpark.com/wp-content/uploads/2022/08/1-1.png
END:VEVENT
BEGIN:VEVENT
DTSTART;TZID=America/Toronto:20230721T203000
DTEND;TZID=America/Toronto:20230721T220000
DTSTAMP:20260422T065815
CREATED:20230719T141854Z
LAST-MODIFIED:20230719T141854Z
UID:2906-1689971400-1689976800@windmillpointpark.com
SUMMARY:Glow in the Dark Christmas Wagon Ride!
DESCRIPTION:Hop on our wagon at the Event Tent for a tour of the campground with glowsticks and Christmas tunes!\nA glowstick necklace will be provided to everyone on board.  You’re also more than welcome to bring your own!\nLet’s light up the night!\nFirst come\, first served. \nALL EVENTS ARE SUBJECT TO CHANGE OR CANCELLATION WITHOUT NOTICE. \nChildren 6 and under must be supervised at all times.
URL:https://windmillpointpark.com/event/glow-in-the-dark-christmas-wagon-ride-2/
LOCATION:Event Tent
ATTACH;FMTTYPE=image/jpeg:https://windmillpointpark.com/wp-content/uploads/2019/06/WINDMILL-CHRISTMAS-EXPRESS.jpg
END:VEVENT
END:VCALENDAR