BEGIN:VCALENDAR
VERSION:2.0
PRODID:-//Windmill Point Park - ECPv6.11.2//NONSGML v1.0//EN
CALSCALE:GREGORIAN
METHOD:PUBLISH
X-ORIGINAL-URL:https://windmillpointpark.com
X-WR-CALDESC:Events for Windmill Point Park
REFRESH-INTERVAL;VALUE=DURATION:PT1H
X-Robots-Tag:noindex
X-PUBLISHED-TTL:PT1H
BEGIN:VTIMEZONE
TZID:America/Toronto
BEGIN:DAYLIGHT
TZOFFSETFROM:-0500
TZOFFSETTO:-0400
TZNAME:EDT
DTSTART:20230312T070000
END:DAYLIGHT
BEGIN:STANDARD
TZOFFSETFROM:-0400
TZOFFSETTO:-0500
TZNAME:EST
DTSTART:20231105T060000
END:STANDARD
END:VTIMEZONE
BEGIN:VEVENT
DTSTART;TZID=America/Toronto:20230715T100000
DTEND;TZID=America/Toronto:20230715T110000
DTSTAMP:20260425T155102
CREATED:20230713T231349Z
LAST-MODIFIED:20230713T231434Z
UID:2887-1689415200-1689418800@windmillpointpark.com
SUMMARY:Club Rex!
DESCRIPTION:If you have a dino-obsessed kid you are in the right place! Club Rex offers hands-on access to our collection of museum skulls\, teeth\, claws and fossil! We eat\, breathe and sleep dinosaurs and bring the latest news and discoveries to all of our programming! \nMOVIES AND ALL EVENTS ARE SUBJECT TO CHANGE OR CANCELLATION WITHOUT NOTICE. Children 6 and under must be supervised at all times. \n  \n 
URL:https://windmillpointpark.com/event/club-rex/
LOCATION:Event Tent
ATTACH;FMTTYPE=image/jpeg:https://windmillpointpark.com/wp-content/uploads/2023/07/Club-Rex-Logo.jpeg
END:VEVENT
BEGIN:VEVENT
DTSTART;TZID=America/Toronto:20230715T190000
DTEND;TZID=America/Toronto:20230715T210000
DTSTAMP:20260425T155102
CREATED:20230713T235554Z
LAST-MODIFIED:20230713T235816Z
UID:2899-1689447600-1689454800@windmillpointpark.com
SUMMARY:WAGON RIDE!
DESCRIPTION:MEET US AT THE THE BIG CHAIR TO HOP ON THE WINDMILL EXPRESS WAGON RIDE! \nIt’s an east coast celebration!  Learn useless trivia about Canada’s Maritimes as you take a tour of the \ncampground singing along to fun music from Canada’s East Coast! \n  \n  \nMOVIES AND ALL EVENTS ARE SUBJECT TO CHANGE OR CANCELLATION WITHOUT NOTICE. \nChildren 6 and under must be supervised at all times.
URL:https://windmillpointpark.com/event/wagon-ride-5/
LOCATION:Big Chair
ATTACH;FMTTYPE=image/png:https://windmillpointpark.com/wp-content/uploads/2023/06/Wagon-Ride-Image-2023.png
END:VEVENT
BEGIN:VEVENT
DTSTART;TZID=America/Toronto:20230715T200000
DTEND;TZID=America/Toronto:20230715T230000
DTSTAMP:20260425T155102
CREATED:20230701T022940Z
LAST-MODIFIED:20230713T232659Z
UID:2868-1689451200-1689462000@windmillpointpark.com
SUMMARY:WINDMILL'S KITCHEN PARTY!
DESCRIPTION:HOLY MACKEREL\, WE’RE CELEBRATING CANADA’S EAST COAST TONIGHT!\nThe Kitchen Party\, one of many traditions from Canada’s East Coast\, bringing together friends and neighbours. Songs and stories are shared as guitars\, fiddles and voices crowd around the kitchen table\, while a pot of fish chowder simmers on the stove for all to enjoy!  We may not have the kitchen table or the pot of fish chowder\, but our seasonal campers sure know how to have fun! \n  \n \nMOVIES AND ALL EVENTS ARE SUBJECT TO CHANGE OR CANCELLATION WITHOUT NOTICE. \nChildren 6 and under must be supervised at all times.
URL:https://windmillpointpark.com/event/windmills-kitchen-party/
LOCATION:Event Tent
ATTACH;FMTTYPE=image/png:https://windmillpointpark.com/wp-content/uploads/2023/06/Kitchen-Party-2023.png
END:VEVENT
END:VCALENDAR