BEGIN:VCALENDAR
VERSION:2.0
PRODID:-//Windmill Point Park - ECPv6.11.2//NONSGML v1.0//EN
CALSCALE:GREGORIAN
METHOD:PUBLISH
X-ORIGINAL-URL:https://windmillpointpark.com
X-WR-CALDESC:Events for Windmill Point Park
REFRESH-INTERVAL;VALUE=DURATION:PT1H
X-Robots-Tag:noindex
X-PUBLISHED-TTL:PT1H
BEGIN:VTIMEZONE
TZID:America/Toronto
BEGIN:DAYLIGHT
TZOFFSETFROM:-0500
TZOFFSETTO:-0400
TZNAME:EDT
DTSTART:20230312T070000
END:DAYLIGHT
BEGIN:STANDARD
TZOFFSETFROM:-0400
TZOFFSETTO:-0500
TZNAME:EST
DTSTART:20231105T060000
END:STANDARD
END:VTIMEZONE
BEGIN:VEVENT
DTSTART;VALUE=DATE:20230630
DTEND;VALUE=DATE:20230703
DTSTAMP:20260420T071815
CREATED:20230630T120311Z
LAST-MODIFIED:20230630T120329Z
UID:2816-1688083200-1688342399@windmillpointpark.com
SUMMARY:FOOD TRUCKS!
DESCRIPTION:We’ve got treats this weekend!  Yummy ice cream\, gourmet coffees and treats are all waiting for you by the Event Tent!  Visit the Purple Perk to perk up your day with the specialty coffees and Marble Slab Creamery for a sweet treat.
URL:https://windmillpointpark.com/event/food-trucks/
LOCATION:Event Tent
ATTACH;FMTTYPE=image/png:https://windmillpointpark.com/wp-content/uploads/2023/06/FOOD-TRUCK-POSTER.png
END:VEVENT
BEGIN:VEVENT
DTSTART;VALUE=DATE:20230630
DTEND;VALUE=DATE:20230703
DTSTAMP:20260420T071815
CREATED:20230630T162058Z
LAST-MODIFIED:20230701T021856Z
UID:2819-1688083200-1688342399@windmillpointpark.com
SUMMARY:PURPLE PERK MOBILE COFFEE
DESCRIPTION:Hey! How you doin’?\nWe’re doing great now that the Purple Perk food truck is here!  Gourmet coffees and drinks and lots and lots of homemade treats! \nVisit Tara in front of the Event Tent. \n \nMOVIES AND ALL EVENTS ARE SUBJECT TO CHANGE OR CANCELLATION WITHOUT NOTICE. \nChildren 6 and under must be supervised at all times.
URL:https://windmillpointpark.com/event/purple-perk-food-truck/
LOCATION:Event Tent
ATTACH;FMTTYPE=image/png:https://windmillpointpark.com/wp-content/uploads/2023/06/PURPLE-PERK.png
END:VEVENT
BEGIN:VEVENT
DTSTART;VALUE=DATE:20230701
DTEND;VALUE=DATE:20230703
DTSTAMP:20260420T071815
CREATED:20230629T230211Z
LAST-MODIFIED:20230629T230211Z
UID:2811-1688169600-1688342399@windmillpointpark.com
SUMMARY:Marble Slab Creamery
DESCRIPTION:I SCREAM\, YOU SCREAM\, WE ALL SCREAM FOR ICE CREAM! \nWe’re excited to have Marble Slab Creamery here to serve up some happiness!
URL:https://windmillpointpark.com/event/marble-slab-creamery/
ATTACH;FMTTYPE=image/jpeg:https://windmillpointpark.com/wp-content/uploads/2020/08/Marble-Slab-Creamery-St.-Catharines.jpg
END:VEVENT
BEGIN:VEVENT
DTSTART;TZID=America/Toronto:20230701T100000
DTEND;TZID=America/Toronto:20230701T110000
DTSTAMP:20260420T071815
CREATED:20230629T213229Z
LAST-MODIFIED:20230629T213229Z
UID:2802-1688205600-1688209200@windmillpointpark.com
SUMMARY:KIDS' CRAFT
DESCRIPTION:What else is Canadian?  The Canadian Flag! \nCreate your own Canadian Flag at 10am under the Event Tent! \nAll craft supplies are free! \n \nALL EVENTS ARE SUBJECT TO CHANGE OR CANCELLATION WITHOUT NOTICE. \nChildren 6 and under must be supervised at all times.
URL:https://windmillpointpark.com/event/kids-craft-3/
LOCATION:Event Tent
ATTACH;FMTTYPE=image/jpeg:https://windmillpointpark.com/wp-content/uploads/2023/06/Canadian-Flag-Craft-Image.jpeg
END:VEVENT
BEGIN:VEVENT
DTSTART;TZID=America/Toronto:20230701T140000
DTEND;TZID=America/Toronto:20230701T140000
DTSTAMP:20260420T071815
CREATED:20230629T211146Z
LAST-MODIFIED:20230629T211146Z
UID:2798-1688220000-1688220000@windmillpointpark.com
SUMMARY:FREE CANADA DAY CUPCAKES
DESCRIPTION:CELEBRATE CANADA DAY WITH US!\nWe’re handing out free mini Canada Day Cupcakes at the Event Tent while supplies last. \n  \n \nMOVIES AND ALL EVENTS ARE SUBJECT TO CHANGE OR CANCELLATION WITHOUT NOTICE. \nChildren 6 and under must be supervised at all times.
URL:https://windmillpointpark.com/event/free-canada-day-cupcakes/
LOCATION:Event Tent
ATTACH;FMTTYPE=image/png:https://windmillpointpark.com/wp-content/uploads/2023/06/Free-Cupcakes-.png
END:VEVENT
BEGIN:VEVENT
DTSTART;TZID=America/Toronto:20230701T220000
DTEND;TZID=America/Toronto:20230701T223000
DTSTAMP:20260420T071815
CREATED:20220704T222158Z
LAST-MODIFIED:20220704T222158Z
UID:2344-1688248800-1688250600@windmillpointpark.com
SUMMARY:CANADA DAY FIREWORKS!
DESCRIPTION:WE’RE CELEBRATING CANADA DAY WITH A FIREWORKS SPECTACULAR BY KERR-BOOM PHYROTECHNICS! \nNO NEED TO DO ANYTHING BUT LOOK UP INTO THE SKY! \n  \nALL EVENTS ARE SUBJECT TO CHANGE OR CANCELLATION WITHOUT NOTICE. \nChildren 6 and under must be supervised at all times.
URL:https://windmillpointpark.com/event/canada-day-fireworks-2/
ATTACH;FMTTYPE=image/jpeg:https://windmillpointpark.com/wp-content/uploads/2019/06/canada_day_fireworks-690x435-c.jpg
END:VEVENT
END:VCALENDAR