BEGIN:VCALENDAR
VERSION:2.0
PRODID:-//Windmill Point Park - ECPv6.11.2//NONSGML v1.0//EN
CALSCALE:GREGORIAN
METHOD:PUBLISH
X-WR-CALNAME:Windmill Point Park
X-ORIGINAL-URL:https://windmillpointpark.com
X-WR-CALDESC:Events for Windmill Point Park
REFRESH-INTERVAL;VALUE=DURATION:PT1H
X-Robots-Tag:noindex
X-PUBLISHED-TTL:PT1H
BEGIN:VTIMEZONE
TZID:America/Toronto
BEGIN:DAYLIGHT
TZOFFSETFROM:-0500
TZOFFSETTO:-0400
TZNAME:EDT
DTSTART:20220313T070000
END:DAYLIGHT
BEGIN:STANDARD
TZOFFSETFROM:-0400
TZOFFSETTO:-0500
TZNAME:EST
DTSTART:20221106T060000
END:STANDARD
END:VTIMEZONE
BEGIN:VEVENT
DTSTART;TZID=America/Toronto:20220827T190000
DTEND;TZID=America/Toronto:20220827T220000
DTSTAMP:20260422T104144
CREATED:20220812T164308Z
LAST-MODIFIED:20220812T170858Z
UID:2495-1661626800-1661637600@windmillpointpark.com
SUMMARY:DREW RIPLEY - BALLOON MAKING MACHINE!
DESCRIPTION:Think of this show like a magic show\, except that every stage involves balloons. Drew infuses the show with humour and creativity\, sparking the imagination of audience members as they are pulled on stage to become part of the experience. \n \n\nMOVIES AND ALL EVENTS ARE SUBJECT TO CHANGE OR CANCELLATION WITHOUT NOTICE. \nChildren 6 and under must be supervised at all times.
URL:https://windmillpointpark.com/event/drew-ripley-balloon-making-machine/
LOCATION:Event Tent
ATTACH;FMTTYPE=image/jpeg:https://windmillpointpark.com/wp-content/uploads/2022/08/Drew-Ripley-scaled.jpg
END:VEVENT
END:VCALENDAR