BEGIN:VCALENDAR
VERSION:2.0
PRODID:-//Windmill Point Park - ECPv6.11.2//NONSGML v1.0//EN
CALSCALE:GREGORIAN
METHOD:PUBLISH
X-ORIGINAL-URL:https://windmillpointpark.com
X-WR-CALDESC:Events for Windmill Point Park
REFRESH-INTERVAL;VALUE=DURATION:PT1H
X-Robots-Tag:noindex
X-PUBLISHED-TTL:PT1H
BEGIN:VTIMEZONE
TZID:America/Toronto
BEGIN:DAYLIGHT
TZOFFSETFROM:-0500
TZOFFSETTO:-0400
TZNAME:EDT
DTSTART:20220313T070000
END:DAYLIGHT
BEGIN:STANDARD
TZOFFSETFROM:-0400
TZOFFSETTO:-0500
TZNAME:EST
DTSTART:20221106T060000
END:STANDARD
END:VTIMEZONE
BEGIN:VEVENT
DTSTART;VALUE=DATE:20220819
DTEND;VALUE=DATE:20220822
DTSTAMP:20260425T104531
CREATED:20210820T144920Z
LAST-MODIFIED:20220812T222601Z
UID:1935-1660867200-1661126399@windmillpointpark.com
SUMMARY:HALLOWEEN IN AUGUST WEEKEND!
DESCRIPTION:  \n  \nMOVIES AND ALL EVENTS ARE SUBJECT TO CHANGE OR CANCELLATION WITHOUT NOTICE. \nChildren 6 and under must be supervised at all times.
URL:https://windmillpointpark.com/event/halloween-in-august-weekend/
ATTACH;FMTTYPE=image/jpeg:https://windmillpointpark.com/wp-content/uploads/2022/08/Halloween-Car-Pass-2022.jpg
END:VEVENT
BEGIN:VEVENT
DTSTART;TZID=America/Toronto:20220819T080000
DTEND;TZID=America/Toronto:20220821T230000
DTSTAMP:20260425T104531
CREATED:20220817T175910Z
LAST-MODIFIED:20220817T175910Z
UID:2531-1660896000-1661122800@windmillpointpark.com
SUMMARY:HALLOWEEN CONTESTS!
DESCRIPTION:IT’S DRESS UP TIME!\nDress up your site and yourselves for a chance to win some awesome prizes! \n(pst… The best decorated sites have a chance to win Best Buy gift cards) \n 
URL:https://windmillpointpark.com/event/halloween-contests-2/
ATTACH;FMTTYPE=image/jpeg:https://windmillpointpark.com/wp-content/uploads/2022/08/Halloween-Contests-2022-1.jpg
END:VEVENT
BEGIN:VEVENT
DTSTART;TZID=America/Toronto:20220820T100000
DTEND;TZID=America/Toronto:20220820T110000
DTSTAMP:20260425T104531
CREATED:20220812T222906Z
LAST-MODIFIED:20220812T223006Z
UID:2516-1660989600-1660993200@windmillpointpark.com
SUMMARY:HALLOWEEN CRAFT!
DESCRIPTION:THE FUN STARTS AT 10AM!  MEET US AT THE EVENT TENT!\nAll craft supplies are free and available while supplies last. \n \nALL EVENTS ARE SUBJECT TO CHANGE OR CANCELLATION WITHOUT NOTICE. \nChildren 6 and under must be supervised at all times.
URL:https://windmillpointpark.com/event/halloween-craft/
LOCATION:Event Tent
ATTACH;FMTTYPE=image/jpeg:https://windmillpointpark.com/wp-content/uploads/2022/08/HALLOWEEN-CRAFT-2022.jpg
END:VEVENT
BEGIN:VEVENT
DTSTART;TZID=America/Toronto:20220820T100000
DTEND;TZID=America/Toronto:20220820T170000
DTSTAMP:20260425T104531
CREATED:20220811T191502Z
LAST-MODIFIED:20220811T193020Z
UID:2488-1660989600-1661014800@windmillpointpark.com
SUMMARY:HALLOWEEN SCAVENGER HUNT!
DESCRIPTION:Grab your cell phones for a frighteningly good time!\nMeet us at the Event Tent @10am (when the craft starts) to register. \nYou’ll need a cell phone with texting and we’ll need your name and cell phone number! \nPlease make sure that you stay in the public areas of the campground and do not walk through campsites. \n \nMOVIES AND ALL EVENTS ARE SUBJECT TO CHANGE OR CANCELLATION WITHOUT NOTICE. \nChildren 6 and under must be supervised at all times.
URL:https://windmillpointpark.com/event/halloween-scavenger-hunt/
LOCATION:Event Tent
ATTACH;FMTTYPE=image/jpeg:https://windmillpointpark.com/wp-content/uploads/2022/08/Halloween-Scavenger-Hunt-2022.jpg
END:VEVENT
BEGIN:VEVENT
DTSTART;TZID=America/Toronto:20220820T190000
DTEND;TZID=America/Toronto:20220820T210000
DTSTAMP:20260425T104531
CREATED:20220811T183942Z
LAST-MODIFIED:20220811T183942Z
UID:2478-1661022000-1661029200@windmillpointpark.com
SUMMARY:TRICK OR TREAT!
DESCRIPTION:Trick or Treat!\n\nMOVIES AND ALL EVENTS ARE SUBJECT TO CHANGE OR CANCELLATION WITHOUT NOTICE. \nChildren 10 and under must be supervised at all times.
URL:https://windmillpointpark.com/event/trick-or-treat-2/
ATTACH;FMTTYPE=image/jpeg:https://windmillpointpark.com/wp-content/uploads/2022/08/Trick-or-Treating-2022.jpg
END:VEVENT
BEGIN:VEVENT
DTSTART;TZID=America/Toronto:20220820T200000
DTEND;TZID=America/Toronto:20220820T230000
DTSTAMP:20260425T104531
CREATED:20220627T200020Z
LAST-MODIFIED:20220812T201144Z
UID:2267-1661025600-1661036400@windmillpointpark.com
SUMMARY:Beyond the Groove!
DESCRIPTION:We’re a Niagara based band performing music from a wide assortment of artists who’ve passed.\n\n\nAdam Whitsitt – Bass\nChristian B Rawkopolis – Guitar\nJim Holiko – Vocals\nScott Fretz – Drums\n\n\n\nWith respect to our fallen musical heroes\, a band was born with the idea to pay tribute to all the great artists who have passed “Beyond the Grave”. Tackling a diverse line-up\, we are providing a solid night as our eulogy.\n\n\nSamples of the artists we cover (many with a twist) :\n* Sublime\n* David Bowie\n* Stone Temple Pilots\n* The Beatles\n* Sex Pistols\n* The Tragically Hip\n* Otis Redding\n* AC/DC\n* Led Zepplin\n* Linkin Park\n* Traveling Wilburys\n* The Doors\n\n\n… and more!\n\n\n\n\nMOVIES AND ALL EVENTS ARE SUBJECT TO CHANGE OR CANCELLATION WITHOUT NOTICE. \nChildren 6 and under must be supervised at all times.
URL:https://windmillpointpark.com/event/beyond-the-grave/
LOCATION:Event Tent
ATTACH;FMTTYPE=image/jpeg:https://windmillpointpark.com/wp-content/uploads/2022/06/Beyond-the-Grave.jpeg
END:VEVENT
END:VCALENDAR