BEGIN:VCALENDAR
VERSION:2.0
PRODID:-//Windmill Point Park - ECPv6.11.2//NONSGML v1.0//EN
CALSCALE:GREGORIAN
METHOD:PUBLISH
X-WR-CALNAME:Windmill Point Park
X-ORIGINAL-URL:https://windmillpointpark.com
X-WR-CALDESC:Events for Windmill Point Park
REFRESH-INTERVAL;VALUE=DURATION:PT1H
X-Robots-Tag:noindex
X-PUBLISHED-TTL:PT1H
BEGIN:VTIMEZONE
TZID:America/Toronto
BEGIN:DAYLIGHT
TZOFFSETFROM:-0500
TZOFFSETTO:-0400
TZNAME:EDT
DTSTART:20220313T070000
END:DAYLIGHT
BEGIN:STANDARD
TZOFFSETFROM:-0400
TZOFFSETTO:-0500
TZNAME:EST
DTSTART:20221106T060000
END:STANDARD
END:VTIMEZONE
BEGIN:VEVENT
DTSTART;TZID=America/Toronto:20220814T100000
DTEND;TZID=America/Toronto:20220814T110000
DTSTAMP:20260425T104429
CREATED:20220806T163417Z
LAST-MODIFIED:20220809T000413Z
UID:2452-1660471200-1660474800@windmillpointpark.com
SUMMARY:Kids' Activity - Balloon Stampede!
DESCRIPTION:BALLOON STAMPEDE!\nHey y’all!  We’re gonna have us a rootin’ tooting’ good time with balloons!  We’re settin’ you lil’ cowpokes loose on a balloon-popping stampede. Balloons are gonna be filled with all the best prizes\, east of the Mississippi. We’re gonna try us some lassoing too\, if we have time! \n \nMOVIES AND ALL EVENTS ARE SUBJECT TO CHANGE OR CANCELLATION WITHOUT NOTICE. \nChildren 6 and under must be supervised at all times.
URL:https://windmillpointpark.com/event/kids-activity-8/
LOCATION:Event Tent
ATTACH;FMTTYPE=image/png:https://windmillpointpark.com/wp-content/uploads/2022/08/Balloon-Stampede.png
END:VEVENT
END:VCALENDAR