BEGIN:VCALENDAR
VERSION:2.0
PRODID:-//Windmill Point Park - ECPv6.11.2//NONSGML v1.0//EN
CALSCALE:GREGORIAN
METHOD:PUBLISH
X-ORIGINAL-URL:https://windmillpointpark.com
X-WR-CALDESC:Events for Windmill Point Park
REFRESH-INTERVAL;VALUE=DURATION:PT1H
X-Robots-Tag:noindex
X-PUBLISHED-TTL:PT1H
BEGIN:VTIMEZONE
TZID:America/Toronto
BEGIN:DAYLIGHT
TZOFFSETFROM:-0500
TZOFFSETTO:-0400
TZNAME:EDT
DTSTART:20220313T070000
END:DAYLIGHT
BEGIN:STANDARD
TZOFFSETFROM:-0400
TZOFFSETTO:-0500
TZNAME:EST
DTSTART:20221106T060000
END:STANDARD
END:VTIMEZONE
BEGIN:VEVENT
DTSTART;TZID=America/Toronto:20220807T100000
DTEND;TZID=America/Toronto:20220807T110000
DTSTAMP:20260423T205410
CREATED:20220805T165123Z
LAST-MODIFIED:20220808T141222Z
UID:2441-1659866400-1659870000@windmillpointpark.com
SUMMARY:Kids' Activity!
DESCRIPTION:Get ready to get soaked!  We’re playing water games this this morning! \nJoin us at the Event Tent for some BIG FUN!  Don’t miss out! \n  \nMOVIES AND ALL EVENTS ARE SUBJECT TO CHANGE OR CANCELLATION WITHOUT NOTICE. \nChildren 6 and under must be supervised at all times.
URL:https://windmillpointpark.com/event/kids-activity-7/
LOCATION:Event Tent
END:VEVENT
END:VCALENDAR