BEGIN:VCALENDAR
VERSION:2.0
PRODID:-//Windmill Point Park - ECPv6.11.2//NONSGML v1.0//EN
CALSCALE:GREGORIAN
METHOD:PUBLISH
X-WR-CALNAME:Windmill Point Park
X-ORIGINAL-URL:https://windmillpointpark.com
X-WR-CALDESC:Events for Windmill Point Park
REFRESH-INTERVAL;VALUE=DURATION:PT1H
X-Robots-Tag:noindex
X-PUBLISHED-TTL:PT1H
BEGIN:VTIMEZONE
TZID:America/Toronto
BEGIN:DAYLIGHT
TZOFFSETFROM:-0500
TZOFFSETTO:-0400
TZNAME:EDT
DTSTART:20220313T070000
END:DAYLIGHT
BEGIN:STANDARD
TZOFFSETFROM:-0400
TZOFFSETTO:-0500
TZNAME:EST
DTSTART:20221106T060000
END:STANDARD
END:VTIMEZONE
BEGIN:VEVENT
DTSTART;TZID=America/Toronto:20220729T200000
DTEND;TZID=America/Toronto:20220729T220000
DTSTAMP:20260420T081001
CREATED:20220705T011204Z
LAST-MODIFIED:20220705T011204Z
UID:2368-1659124800-1659132000@windmillpointpark.com
SUMMARY:GLOW IN THE DARK WAGON RIDE!
DESCRIPTION:Hop on our wagon at the Event Tent for a tour of the campground with glowsticks and tunes!\nA glowstick necklace will be provided to everyone on board.  You’re also more than welcome to bring your own!\nLet’s light up the night!\nFirst come\, first served. \nALL EVENTS ARE SUBJECT TO CHANGE OR CANCELLATION WITHOUT NOTICE. \nChildren 6 and under must be supervised at all times.
URL:https://windmillpointpark.com/event/glow-in-the-dark-wagon-ride-9/
LOCATION:Event Tent
ATTACH;FMTTYPE=image/jpeg:https://windmillpointpark.com/wp-content/uploads/2019/06/Wagon-Ride.jpg
END:VEVENT
END:VCALENDAR