BEGIN:VCALENDAR
VERSION:2.0
PRODID:-//Windmill Point Park - ECPv6.11.2//NONSGML v1.0//EN
CALSCALE:GREGORIAN
METHOD:PUBLISH
X-WR-CALNAME:Windmill Point Park
X-ORIGINAL-URL:https://windmillpointpark.com
X-WR-CALDESC:Events for Windmill Point Park
REFRESH-INTERVAL;VALUE=DURATION:PT1H
X-Robots-Tag:noindex
X-PUBLISHED-TTL:PT1H
BEGIN:VTIMEZONE
TZID:America/Toronto
BEGIN:DAYLIGHT
TZOFFSETFROM:-0500
TZOFFSETTO:-0400
TZNAME:EDT
DTSTART:20220313T070000
END:DAYLIGHT
BEGIN:STANDARD
TZOFFSETFROM:-0400
TZOFFSETTO:-0500
TZNAME:EST
DTSTART:20221106T060000
END:STANDARD
END:VTIMEZONE
BEGIN:VEVENT
DTSTART;TZID=America/Toronto:20220709T130000
DTEND;TZID=America/Toronto:20220709T150000
DTSTAMP:20260425T091433
CREATED:20220630T205650Z
LAST-MODIFIED:20220630T205844Z
UID:2301-1657371600-1657378800@windmillpointpark.com
SUMMARY:Ice Cream Float Social!
DESCRIPTION:Join us at the beach for a yummy cold treat!\nPlease check back for more details. \nMOVIES AND ALL EVENTS ARE SUBJECT TO CHANGE OR CANCELLATION WITHOUT NOTICE. \nChildren 6 and under must be supervised at all times.
URL:https://windmillpointpark.com/event/ice-cream-float-social-2/
LOCATION:Beach
END:VEVENT
BEGIN:VEVENT
DTSTART;TZID=America/Toronto:20220709T180000
DTEND;TZID=America/Toronto:20220709T200000
DTSTAMP:20260425T091433
CREATED:20220704T202857Z
LAST-MODIFIED:20220704T202857Z
UID:2333-1657389600-1657396800@windmillpointpark.com
SUMMARY:WAGON RIDE!
DESCRIPTION:MEET US AT THE EVENT TENT AND HOP ON THE WINDMILL EXPRESS WAGON RIDE! \nALL EVENTS ARE SUBJECT TO CHANGE OR CANCELLATION WITHOUT NOTICE. \nChildren 6 and under must be supervised at all times.
URL:https://windmillpointpark.com/event/wagon-ride-3/
LOCATION:Event Tent
ATTACH;FMTTYPE=image/jpeg:https://windmillpointpark.com/wp-content/uploads/2019/06/Wagon-Ride.jpg
END:VEVENT
BEGIN:VEVENT
DTSTART;TZID=America/Toronto:20220709T210000
DTEND;TZID=America/Toronto:20220709T230000
DTSTAMP:20260425T091433
CREATED:20220627T202004Z
LAST-MODIFIED:20220704T195600Z
UID:2284-1657400400-1657407600@windmillpointpark.com
SUMMARY:MOVIES UNDER THE STARS!
DESCRIPTION:SEE THE STARS UNDER THE STARS!\nENCANTO\n \nThe Madrigals are an extraordinary family who live hidden in the mountains of Colombia in a charmed place called the Encanto. The magic of the Encanto has blessed every child in the family with a unique gift — every child except Mirabel. However\, she soon may be the Madrigals last hope when she discovers that the magic surrounding the Encanto is now in danger. \n\n\nRATED PG\n\n\nMOVIES AND ALL EVENTS ARE SUBJECT TO CHANGE OR CANCELLATION WITHOUT NOTICE. \nChildren 6 and under must be supervised at all times.
URL:https://windmillpointpark.com/event/movies-under-the-stars-32/
LOCATION:Outdoor Movie Screen
ATTACH;FMTTYPE=image/jpeg:https://windmillpointpark.com/wp-content/uploads/2019/02/movies-under-the-stars.jpg
END:VEVENT
END:VCALENDAR