BEGIN:VCALENDAR
VERSION:2.0
PRODID:-//Windmill Point Park - ECPv6.11.2//NONSGML v1.0//EN
CALSCALE:GREGORIAN
METHOD:PUBLISH
X-WR-CALNAME:Windmill Point Park
X-ORIGINAL-URL:https://windmillpointpark.com
X-WR-CALDESC:Events for Windmill Point Park
REFRESH-INTERVAL;VALUE=DURATION:PT1H
X-Robots-Tag:noindex
X-PUBLISHED-TTL:PT1H
BEGIN:VTIMEZONE
TZID:America/Toronto
BEGIN:DAYLIGHT
TZOFFSETFROM:-0500
TZOFFSETTO:-0400
TZNAME:EDT
DTSTART:20220313T070000
END:DAYLIGHT
BEGIN:STANDARD
TZOFFSETFROM:-0400
TZOFFSETTO:-0500
TZNAME:EST
DTSTART:20221106T060000
END:STANDARD
END:VTIMEZONE
BEGIN:VEVENT
DTSTART;TZID=America/Toronto:20220701T100000
DTEND;TZID=America/Toronto:20220701T110000
DTSTAMP:20260422T223200
CREATED:20220630T214322Z
LAST-MODIFIED:20220630T214322Z
UID:2310-1656669600-1656673200@windmillpointpark.com
SUMMARY:CANADA DAY KIDS' CRAFT!
DESCRIPTION:What’s more Canadian than the hard working beaver?  It’s a national symbol of Canada and you can make your own! \nAll craft supplies are free! \n \n 
URL:https://windmillpointpark.com/event/canada-day-kids-craft/
LOCATION:Event Tent
END:VEVENT
BEGIN:VEVENT
DTSTART;TZID=America/Toronto:20220701T120000
DTEND;TZID=America/Toronto:20220703T200000
DTSTAMP:20260422T223200
CREATED:20220626T163020Z
LAST-MODIFIED:20220627T201334Z
UID:2258-1656676800-1656878400@windmillpointpark.com
SUMMARY:Marble Slab Creamery Food Truck!
DESCRIPTION:Marble Slab Creamery Ice Cream\nMake it your way!\nPremium Ice Cream. Unlimited Mixins. Handrolled Cones. 100% Real Canadian Dairy. Made Fresh.  \n  \n \n  \nALL EVENTS ARE SUBJECT TO CHANGE OR CANCELLATION WITHOUT NOTICE. \nChildren 6 and under must be supervised at all times.
URL:https://windmillpointpark.com/event/marble-slab-food-truck/
LOCATION:Event Tent
ATTACH;FMTTYPE=image/jpeg:https://windmillpointpark.com/wp-content/uploads/2020/08/Marble-Slab-Creamery-St.-Catharines.jpg
END:VEVENT
BEGIN:VEVENT
DTSTART;TZID=America/Toronto:20220701T180000
DTEND;TZID=America/Toronto:20220701T200000
DTSTAMP:20260422T223200
CREATED:20220626T191313Z
LAST-MODIFIED:20220701T195343Z
UID:2260-1656698400-1656705600@windmillpointpark.com
SUMMARY:Wagon Ride!
DESCRIPTION:SORRY…CANCELLED DUE TO TECHNICAL ISSUES.  MOVED TO JULY 2\, 2022 8-10PM. \nMEET US AT THE EVENT TENT AND HOP ON THE WINDMILL EXPRESS WAGON RIDE! \nALL EVENTS ARE SUBJECT TO CHANGE OR CANCELLATION WITHOUT NOTICE. \nChildren 6 and under must be supervised at all times.
URL:https://windmillpointpark.com/event/wagon-ride/
LOCATION:Event Tent
ATTACH;FMTTYPE=image/jpeg:https://windmillpointpark.com/wp-content/uploads/2019/06/Wagon-Ride.jpg
END:VEVENT
BEGIN:VEVENT
DTSTART;TZID=America/Toronto:20220701T200000
DTEND;TZID=America/Toronto:20220701T230000
DTSTAMP:20260422T223200
CREATED:20220227T182242Z
LAST-MODIFIED:20220518T190522Z
UID:2060-1656705600-1656716400@windmillpointpark.com
SUMMARY:BAND - THE FIGURE FOUR
DESCRIPTION:  \nALL EVENTS ARE SUBJECT TO CHANGE OR CANCELLATION WITHOUT NOTICE. \nChildren 6 and under must be supervised at all times.
URL:https://windmillpointpark.com/event/band-figure-four/
LOCATION:Event Tent
ATTACH;FMTTYPE=image/jpeg:https://windmillpointpark.com/wp-content/uploads/2019/06/thefigurefour.jpg
END:VEVENT
END:VCALENDAR