BEGIN:VCALENDAR
VERSION:2.0
PRODID:-//Windmill Point Park - ECPv6.11.2//NONSGML v1.0//EN
CALSCALE:GREGORIAN
METHOD:PUBLISH
X-ORIGINAL-URL:https://windmillpointpark.com
X-WR-CALDESC:Events for Windmill Point Park
REFRESH-INTERVAL;VALUE=DURATION:PT1H
X-Robots-Tag:noindex
X-PUBLISHED-TTL:PT1H
BEGIN:VTIMEZONE
TZID:America/Toronto
BEGIN:DAYLIGHT
TZOFFSETFROM:-0500
TZOFFSETTO:-0400
TZNAME:EDT
DTSTART:20220313T070000
END:DAYLIGHT
BEGIN:STANDARD
TZOFFSETFROM:-0400
TZOFFSETTO:-0500
TZNAME:EST
DTSTART:20221106T060000
END:STANDARD
END:VTIMEZONE
BEGIN:VEVENT
DTSTART;TZID=America/Toronto:20220520T203000
DTEND;TZID=America/Toronto:20220520T220000
DTSTAMP:20260425T115123
CREATED:20210804T160408Z
LAST-MODIFIED:20220520T180942Z
UID:1874-1653078600-1653084000@windmillpointpark.com
SUMMARY:Glow in the Dark Wagon Ride
DESCRIPTION:Hop on our wagon for a tour of the campground with glowsticks and music!\nA glowstick necklace will be provided to everyone on board.  You’re also more than welcome to bring your own!\nLet’s light up the night!\nFirst come\, first served.    Small children must be accompanied by an adult.
URL:https://windmillpointpark.com/event/glow-in-the-dark-wagon-ride-3/
ATTACH;FMTTYPE=image/jpeg:https://windmillpointpark.com/wp-content/uploads/2019/06/Wagon-Ride.jpg
END:VEVENT
END:VCALENDAR