BEGIN:VCALENDAR
VERSION:2.0
PRODID:-//Windmill Point Park - ECPv6.11.2//NONSGML v1.0//EN
CALSCALE:GREGORIAN
METHOD:PUBLISH
X-ORIGINAL-URL:https://windmillpointpark.com
X-WR-CALDESC:Events for Windmill Point Park
REFRESH-INTERVAL;VALUE=DURATION:PT1H
X-Robots-Tag:noindex
X-PUBLISHED-TTL:PT1H
BEGIN:VTIMEZONE
TZID:America/Toronto
BEGIN:DAYLIGHT
TZOFFSETFROM:-0500
TZOFFSETTO:-0400
TZNAME:EDT
DTSTART:20210314T070000
END:DAYLIGHT
BEGIN:STANDARD
TZOFFSETFROM:-0400
TZOFFSETTO:-0500
TZNAME:EST
DTSTART:20211107T060000
END:STANDARD
END:VTIMEZONE
BEGIN:VEVENT
DTSTART;TZID=America/Toronto:20210821T103000
DTEND;TZID=America/Toronto:20210821T113000
DTSTAMP:20260420T100214
CREATED:20210820T142651Z
LAST-MODIFIED:20210820T142651Z
UID:1925-1629541800-1629545400@windmillpointpark.com
SUMMARY:KIDS' KAMP!
DESCRIPTION:Join us at the Event Tent to create your own Pebble Picture! \nAll supplies are included for free. \nJust bring your imagination\, a mask and an adult if you’re under the age of 7. \nHand sanitizers will also be available.
URL:https://windmillpointpark.com/event/kids-kamp-26/
LOCATION:Event Tent
END:VEVENT
BEGIN:VEVENT
DTSTART;TZID=America/Toronto:20210821T203000
DTEND;TZID=America/Toronto:20210821T230000
DTSTAMP:20260420T100214
CREATED:20210723T000650Z
LAST-MODIFIED:20210820T142231Z
UID:1821-1629577800-1629586800@windmillpointpark.com
SUMMARY:Movie Under the Stars
DESCRIPTION:Join us at the Outdoor Movie Screen for Black Widow! \nNatasha Romanoff\, aka Black Widow\, confronts the darker parts of her ledger when a dangerous conspiracy with ties to her past arises. Pursued by a force that will stop at nothing to bring her down\, Natasha must deal with her history as a spy\, and the broken relationships left in her wake long before she became an Avenger. \nRATED PG-13
URL:https://windmillpointpark.com/event/movie-under-the-stars-20/
LOCATION:Outdoor Movie Screen
ATTACH;FMTTYPE=image/jpeg:https://windmillpointpark.com/wp-content/uploads/2019/02/movies-under-the-stars.jpg
END:VEVENT
END:VCALENDAR