BEGIN:VCALENDAR
VERSION:2.0
PRODID:-//Windmill Point Park - ECPv6.11.2//NONSGML v1.0//EN
CALSCALE:GREGORIAN
METHOD:PUBLISH
X-WR-CALNAME:Windmill Point Park
X-ORIGINAL-URL:https://windmillpointpark.com
X-WR-CALDESC:Events for Windmill Point Park
REFRESH-INTERVAL;VALUE=DURATION:PT1H
X-Robots-Tag:noindex
X-PUBLISHED-TTL:PT1H
BEGIN:VTIMEZONE
TZID:America/Toronto
BEGIN:DAYLIGHT
TZOFFSETFROM:-0500
TZOFFSETTO:-0400
TZNAME:EDT
DTSTART:20210314T070000
END:DAYLIGHT
BEGIN:STANDARD
TZOFFSETFROM:-0400
TZOFFSETTO:-0500
TZNAME:EST
DTSTART:20211107T060000
END:STANDARD
END:VTIMEZONE
BEGIN:VEVENT
DTSTART;VALUE=DATE:20210813
DTEND;VALUE=DATE:20210815
DTSTAMP:20260426T001108
CREATED:20210809T000141Z
LAST-MODIFIED:20210809T000141Z
UID:1907-1628812800-1628985599@windmillpointpark.com
SUMMARY:HALLOWEEN IN AUGUST!
DESCRIPTION:Join us for some tricks\, treats and  Halloween fun at Windmill! \nWe’ve got lots going on!  Contests!  Movies! Crafts! Treats and more!
URL:https://windmillpointpark.com/event/halloween-in-august-3/
ATTACH;FMTTYPE=image/png:https://windmillpointpark.com/wp-content/uploads/2021/08/Halloween-2021-Logo.png
END:VEVENT
BEGIN:VEVENT
DTSTART;VALUE=DATE:20210814
DTEND;VALUE=DATE:20210815
DTSTAMP:20260426T001108
CREATED:20210809T000734Z
LAST-MODIFIED:20210809T000821Z
UID:1910-1628899200-1628985599@windmillpointpark.com
SUMMARY:HALLOWEEN CONTESTS!
DESCRIPTION:Get ready for some prizes! \nGet yourself dressed up and your site for a chance to win some awesome prizes! \nJudges will announce winners on Sunday morning on this event page!  Check back for winners. \n \n 
URL:https://windmillpointpark.com/event/halloween-contests/
ATTACH;FMTTYPE=image/png:https://windmillpointpark.com/wp-content/uploads/2021/08/Halloween-2021-Logo.png
END:VEVENT
BEGIN:VEVENT
DTSTART;VALUE=DATE:20210814
DTEND;VALUE=DATE:20210816
DTSTAMP:20260426T001108
CREATED:20210809T001329Z
LAST-MODIFIED:20210809T001329Z
UID:1913-1628899200-1629071999@windmillpointpark.com
SUMMARY:MARBLE SLAB ICE CREAM TRUCK!
DESCRIPTION:Marble Slab Ice Cream Truck is here to serve up some happiness! \nWhat’s your favourite?
URL:https://windmillpointpark.com/event/marble-slab-ice-cream-truck-3/
ATTACH;FMTTYPE=image/jpeg:https://windmillpointpark.com/wp-content/uploads/2020/08/Marble-Slab-Creamery-St.-Catharines.jpg
END:VEVENT
BEGIN:VEVENT
DTSTART;TZID=America/Toronto:20210814T100000
DTEND;TZID=America/Toronto:20210814T110000
DTSTAMP:20260426T001108
CREATED:20210808T234801Z
LAST-MODIFIED:20210814T135144Z
UID:1895-1628935200-1628938800@windmillpointpark.com
SUMMARY:KIDS' KAMP
DESCRIPTION:WE’RE MAKING HALLOWEEN CRAFTS! \nJoin us at the Event Tent to create your own Halloween decorations! \nAll supplies included. \nAdult supervision is required for ages 6 and under.  Masks must be worn at all times and hand sanitizer will be available.
URL:https://windmillpointpark.com/event/kids-kamp-25/
LOCATION:Event Tent
ATTACH;FMTTYPE=image/jpeg:https://windmillpointpark.com/wp-content/uploads/2021/08/Halloween-craft-e1628466413984.jpg
END:VEVENT
BEGIN:VEVENT
DTSTART;TZID=America/Toronto:20210814T210000
DTEND;TZID=America/Toronto:20210814T230000
DTSTAMP:20260426T001108
CREATED:20210710T162710Z
LAST-MODIFIED:20210809T000911Z
UID:1751-1628974800-1628982000@windmillpointpark.com
SUMMARY:Movies Under the Stars
DESCRIPTION:Join us at the Outdoor Movie Screen for Hotel Transylvania 3: Summer Vacation! \nCount Dracula feels lonely and depressed while running his hotel for monsters. To show him a good time\, his family books a luxury vacation cruise exclusively for monsters. \nRATED PG
URL:https://windmillpointpark.com/event/movies-under-the-stars-19/
LOCATION:Outdoor Movie Screen
ATTACH;FMTTYPE=image/png:https://windmillpointpark.com/wp-content/uploads/2021/08/Halloween-2021-Logo.png
END:VEVENT
END:VCALENDAR