BEGIN:VCALENDAR
VERSION:2.0
PRODID:-//Windmill Point Park - ECPv6.11.2//NONSGML v1.0//EN
CALSCALE:GREGORIAN
METHOD:PUBLISH
X-ORIGINAL-URL:https://windmillpointpark.com
X-WR-CALDESC:Events for Windmill Point Park
REFRESH-INTERVAL;VALUE=DURATION:PT1H
X-Robots-Tag:noindex
X-PUBLISHED-TTL:PT1H
BEGIN:VTIMEZONE
TZID:America/Toronto
BEGIN:DAYLIGHT
TZOFFSETFROM:-0500
TZOFFSETTO:-0400
TZNAME:EDT
DTSTART:20210314T070000
END:DAYLIGHT
BEGIN:STANDARD
TZOFFSETFROM:-0400
TZOFFSETTO:-0500
TZNAME:EST
DTSTART:20211107T060000
END:STANDARD
END:VTIMEZONE
BEGIN:VEVENT
DTSTART;VALUE=DATE:20210813
DTEND;VALUE=DATE:20210815
DTSTAMP:20260426T001214
CREATED:20210809T000141Z
LAST-MODIFIED:20210809T000141Z
UID:1907-1628812800-1628985599@windmillpointpark.com
SUMMARY:HALLOWEEN IN AUGUST!
DESCRIPTION:Join us for some tricks\, treats and  Halloween fun at Windmill! \nWe’ve got lots going on!  Contests!  Movies! Crafts! Treats and more!
URL:https://windmillpointpark.com/event/halloween-in-august-3/
ATTACH;FMTTYPE=image/png:https://windmillpointpark.com/wp-content/uploads/2021/08/Halloween-2021-Logo.png
END:VEVENT
BEGIN:VEVENT
DTSTART;TZID=America/Toronto:20210813T203000
DTEND;TZID=America/Toronto:20210813T220000
DTSTAMP:20260426T001214
CREATED:20210804T160707Z
LAST-MODIFIED:20210808T233455Z
UID:1877-1628886600-1628892000@windmillpointpark.com
SUMMARY:Glow in the Dark Haunted Wagon Ride
DESCRIPTION:Hop on our wagon for a tour of the campground with glowsticks and Halloween music!\nA glowstick necklace will be provided to everyone on board.  You’re also more than welcome to bring your own!\nLet’s light up the night!\nFirst come\, first served.  Mask must be worn while on the wagon and hand sanitizer will be available.  Small children must be accompanied by an adult.
URL:https://windmillpointpark.com/event/glow-in-the-dark-wagon-ride-4/
ATTACH;FMTTYPE=image/png:https://windmillpointpark.com/wp-content/uploads/2021/08/Haunted-Hayride.png
END:VEVENT
END:VCALENDAR