BEGIN:VCALENDAR
VERSION:2.0
PRODID:-//Windmill Point Park - ECPv6.11.2//NONSGML v1.0//EN
CALSCALE:GREGORIAN
METHOD:PUBLISH
X-ORIGINAL-URL:https://windmillpointpark.com
X-WR-CALDESC:Events for Windmill Point Park
REFRESH-INTERVAL;VALUE=DURATION:PT1H
X-Robots-Tag:noindex
X-PUBLISHED-TTL:PT1H
BEGIN:VTIMEZONE
TZID:America/Toronto
BEGIN:DAYLIGHT
TZOFFSETFROM:-0500
TZOFFSETTO:-0400
TZNAME:EDT
DTSTART:20210314T070000
END:DAYLIGHT
BEGIN:STANDARD
TZOFFSETFROM:-0400
TZOFFSETTO:-0500
TZNAME:EST
DTSTART:20211107T060000
END:STANDARD
END:VTIMEZONE
BEGIN:VEVENT
DTSTART;TZID=America/Toronto:20210811T210000
DTEND;TZID=America/Toronto:20210811T230000
DTSTAMP:20260426T001214
CREATED:20210723T000823Z
LAST-MODIFIED:20210811T010138Z
UID:1825-1628715600-1628722800@windmillpointpark.com
SUMMARY:Movie Under the Stars
DESCRIPTION:Join us at the Outdoor Movie Screen for Hotel Transylvania! \nCount Dracula runs a high-end resort for monsters and is overprotective of his daughter\, Mavis. When a human named Johnny enters the hotel\, Dracula tries to prevent Mavis from falling for him. \nRATED PG
URL:https://windmillpointpark.com/event/movie-under-the-stars-22/
LOCATION:Outdoor Movie Screen
ATTACH;FMTTYPE=image/jpeg:https://windmillpointpark.com/wp-content/uploads/2019/02/movies-under-the-stars.jpg
END:VEVENT
END:VCALENDAR