BEGIN:VCALENDAR
VERSION:2.0
PRODID:-//Windmill Point Park - ECPv6.11.2//NONSGML v1.0//EN
CALSCALE:GREGORIAN
METHOD:PUBLISH
X-WR-CALNAME:Windmill Point Park
X-ORIGINAL-URL:https://windmillpointpark.com
X-WR-CALDESC:Events for Windmill Point Park
REFRESH-INTERVAL;VALUE=DURATION:PT1H
X-Robots-Tag:noindex
X-PUBLISHED-TTL:PT1H
BEGIN:VTIMEZONE
TZID:America/Toronto
BEGIN:DAYLIGHT
TZOFFSETFROM:-0500
TZOFFSETTO:-0400
TZNAME:EDT
DTSTART:20210314T070000
END:DAYLIGHT
BEGIN:STANDARD
TZOFFSETFROM:-0400
TZOFFSETTO:-0500
TZNAME:EST
DTSTART:20211107T060000
END:STANDARD
END:VTIMEZONE
BEGIN:VEVENT
DTSTART;TZID=America/Toronto:20210807T210000
DTEND;TZID=America/Toronto:20210807T230000
DTSTAMP:20260426T001108
CREATED:20210723T000739Z
LAST-MODIFIED:20210807T153319Z
UID:1823-1628370000-1628377200@windmillpointpark.com
SUMMARY:Movie Under the Stars
DESCRIPTION:Join us at the Outdoor Movie Screen for Boss Baby 2:   Family Business. \nNow adults\, Tim Templeton is a stay-at-home dad for two adorable daughters\, while his estranged brother\, Ted\, is a big-shot CEO. They come together in an unexpected way when they take a magical formula that transforms them into babies for 48 hours. Joining forces with Tim’s secret-agent daughter\, they must go under cover to prevent an evil genius from turning fellow toddlers into monstrous brats. \nRATED PG
URL:https://windmillpointpark.com/event/movie-under-the-stars-21/
LOCATION:Outdoor Movie Screen
END:VEVENT
END:VCALENDAR