BEGIN:VCALENDAR
VERSION:2.0
PRODID:-//Windmill Point Park - ECPv6.11.2//NONSGML v1.0//EN
CALSCALE:GREGORIAN
METHOD:PUBLISH
X-WR-CALNAME:Windmill Point Park
X-ORIGINAL-URL:https://windmillpointpark.com
X-WR-CALDESC:Events for Windmill Point Park
REFRESH-INTERVAL;VALUE=DURATION:PT1H
X-Robots-Tag:noindex
X-PUBLISHED-TTL:PT1H
BEGIN:VTIMEZONE
TZID:America/Toronto
BEGIN:DAYLIGHT
TZOFFSETFROM:-0500
TZOFFSETTO:-0400
TZNAME:EDT
DTSTART:20210314T070000
END:DAYLIGHT
BEGIN:STANDARD
TZOFFSETFROM:-0400
TZOFFSETTO:-0500
TZNAME:EST
DTSTART:20211107T060000
END:STANDARD
END:VTIMEZONE
BEGIN:VEVENT
DTSTART;VALUE=DATE:20210730
DTEND;VALUE=DATE:20210803
DTSTAMP:20260426T001108
CREATED:20210723T001516Z
LAST-MODIFIED:20210723T001516Z
UID:1831-1627603200-1627948799@windmillpointpark.com
SUMMARY:Bacon Crazy Food Truck
DESCRIPTION:We are Annemarie and Randy. We own and operate a Food Trailer company that supplies incredibly delicious bacon food items. Our Bacon themed menu consists of 15 to 20 items that are either cooked in bacon\, wrapped in bacon\, marinated bacon or Bacon flavoured.
URL:https://windmillpointpark.com/event/bacon-crazy-food-truck-2/
LOCATION:Event Tent
ATTACH;FMTTYPE=image/jpeg:https://windmillpointpark.com/wp-content/uploads/2020/08/BC-bacon-crazy-logo-horizontal.jpg
END:VEVENT
BEGIN:VEVENT
DTSTART;VALUE=DATE:20210730
DTEND;VALUE=DATE:20210803
DTSTAMP:20260426T001108
CREATED:20210730T135512Z
LAST-MODIFIED:20210730T212534Z
UID:1848-1627603200-1627948799@windmillpointpark.com
SUMMARY:Easy Peasy Lemonade!
DESCRIPTION:Cool down with some refreshing lemonade while you soak up some sun at Windmill! \nTry the Lime Fizz…  YUM!
URL:https://windmillpointpark.com/event/easy-peasy-lemonade/
ATTACH;FMTTYPE=image/jpeg:https://windmillpointpark.com/wp-content/uploads/2021/07/Easy-Peasy-Lemonade.jpg
END:VEVENT
BEGIN:VEVENT
DTSTART;TZID=America/Toronto:20210802T120000
DTEND;TZID=America/Toronto:20210802T180000
DTSTAMP:20260426T001108
CREATED:20210723T001325Z
LAST-MODIFIED:20210723T001325Z
UID:1829-1627905600-1627927200@windmillpointpark.com
SUMMARY:Marble Slab Ice Cream Truck
DESCRIPTION:Marble Slab Ice Cream Truck is here to serve up some happiness! \nWhat’s your favourite?
URL:https://windmillpointpark.com/event/marble-slab-ice-cream-truck-2/
LOCATION:Event Tent
ATTACH;FMTTYPE=image/jpeg:https://windmillpointpark.com/wp-content/uploads/2020/08/Marble-Slab-Creamery-St.-Catharines.jpg
END:VEVENT
END:VCALENDAR